BEGIN:VCALENDAR
VERSION:2.0
PRODID:-//Phoenix Beach Volleyball - ECPv6.15.20//NONSGML v1.0//EN
CALSCALE:GREGORIAN
METHOD:PUBLISH
X-WR-CALNAME:Phoenix Beach Volleyball
X-ORIGINAL-URL:https://phoenixbeachvb.com
X-WR-CALDESC:Events for Phoenix Beach Volleyball
REFRESH-INTERVAL;VALUE=DURATION:PT1H
X-Robots-Tag:noindex
X-PUBLISHED-TTL:PT1H
BEGIN:VTIMEZONE
TZID:America/Phoenix
BEGIN:STANDARD
TZOFFSETFROM:-0700
TZOFFSETTO:-0700
TZNAME:MST
DTSTART:20220101T000000
END:STANDARD
END:VTIMEZONE
BEGIN:VEVENT
DTSTART;TZID=America/Phoenix:20230617T170000
DTEND;TZID=America/Phoenix:20230617T170000
DTSTAMP:20260425T205322
CREATED:20230611T172133Z
LAST-MODIFIED:20230611T172135Z
UID:10000572-1687021200-1687021200@phoenixbeachvb.com
SUMMARY:Saturday Swingers Draw
DESCRIPTION:A new and fun Swingers format! Swingers Draw! Sign up individually\, no need to find a partner! You’ll play 2 games on mens net\, 2 games on ladies net with 4 different partners! After pool play\, you’ll be paired up with your partner based on your pool play result! \nWe are taking 32 players\, 16 guys/16 gals! Comment in the event or sign up on the website! \nCheck in is 5pm\, play begins at 530 sharp! Cost is $25 per player \nPrizes for first and second place with a full field!
URL:https://phoenixbeachvb.com/event/sunday-swingers-draw-2-2/
LOCATION:RT O’Sullivan’s\, 7919 E Thomas Rd #101\, Scottsdale\, AZ\, 85251\, United States
END:VEVENT
END:VCALENDAR