BEGIN:VCALENDAR
VERSION:2.0
PRODID:-//Phoenix Beach Volleyball - ECPv6.15.20//NONSGML v1.0//EN
CALSCALE:GREGORIAN
METHOD:PUBLISH
X-ORIGINAL-URL:https://phoenixbeachvb.com
X-WR-CALDESC:Events for Phoenix Beach Volleyball
REFRESH-INTERVAL;VALUE=DURATION:PT1H
X-Robots-Tag:noindex
X-PUBLISHED-TTL:PT1H
BEGIN:VTIMEZONE
TZID:America/Phoenix
BEGIN:STANDARD
TZOFFSETFROM:-0700
TZOFFSETTO:-0700
TZNAME:MST
DTSTART:20220101T000000
END:STANDARD
END:VTIMEZONE
BEGIN:VEVENT
DTSTART;TZID=America/Phoenix:20231110T180000
DTEND;TZID=America/Phoenix:20231110T180000
DTSTAMP:20260425T113630
CREATED:20210717T002134Z
LAST-MODIFIED:20240823T204848Z
UID:10000709-1699639200-1699639200@phoenixbeachvb.com
SUMMARY:Ladies Night Reverse Coed Friday Night Draw
DESCRIPTION:This weeks Friday Night Draw at RTOs is for the ladies to take charge!! Reverse coed rules! Gals\, you control the net! Guys\, you’ll be setting and playing defense for the ladies! \nWe are taking up to 32 players\, a max of 16 guys or the number of guys signed up has max of the number of girls signed up. Check in is at 6PM\, play begins at 630. *If we do not get enough girls\, we will run it as a normal FND* \nThe cost is $30 per player\, payable via\nVenmo (@phoenixbeachvb)\nCashApp ($phoenixbeachvb)\nZelle (480-249-2242) \nAll players/teams will get 3 pool play games followed by a double elimination bracket play tournament! That’s 5 games to 21! Pool play games are capped at 23\, bracket play games are no cap* \nPrizes for first and second place with a full field! \nFirst Place – OPTX Balls \nSecond Place – Custom Phx Beach Hoodies \n 
URL:https://phoenixbeachvb.com/event/friday-night-draw-2021-08-13-2021-08-27-2021-10-01-2021-12-10-2022-09-16-2022-11-11-2023-01-20/
LOCATION:RT O’Sullivan’s\, 7919 E Thomas Rd #101\, Scottsdale\, AZ\, 85251\, United States
END:VEVENT
END:VCALENDAR