BEGIN:VCALENDAR
VERSION:2.0
PRODID:-//Phoenix Beach Volleyball - ECPv6.15.20//NONSGML v1.0//EN
CALSCALE:GREGORIAN
METHOD:PUBLISH
X-ORIGINAL-URL:https://phoenixbeachvb.com
X-WR-CALDESC:Events for Phoenix Beach Volleyball
REFRESH-INTERVAL;VALUE=DURATION:PT1H
X-Robots-Tag:noindex
X-PUBLISHED-TTL:PT1H
BEGIN:VTIMEZONE
TZID:America/Phoenix
BEGIN:STANDARD
TZOFFSETFROM:-0700
TZOFFSETTO:-0700
TZNAME:MST
DTSTART:20220101T000000
END:STANDARD
END:VTIMEZONE
BEGIN:VEVENT
DTSTART;TZID=America/Phoenix:20231117T180000
DTEND;TZID=America/Phoenix:20231117T180000
DTSTAMP:20260425T113633
CREATED:20210717T002134Z
LAST-MODIFIED:20241105T204132Z
UID:10001596-1700244000-1700244000@phoenixbeachvb.com
SUMMARY:Phoenix Beach “Winter Warriors” Coed Friday Night Draw
DESCRIPTION:Starting this week we are going to our winter schedule for Phoenix Beach Friday Night Draw at RTO Sullivan’s! Temps are dropping fast\, so we can only take up to 24 players for these events! This means you’ll sit less\, play more and get home sooner! Smaller\, faster tournaments\, more bang for your buck! Check in (player arrival) starts at 6PM\, and play begins at 630PM. This event is for all players C level and up! Any requests to play together will be accommodated\, as long as it’s not an unfairly strong team. \nThe cost is $30 per player\, payable via the following options:\nVenmo (phoenixbeachvb)\npaypal (phoenixbeachvb@gmail.com)\nCashApp ($phoenixbeachvb)\nZelle (480-249-2242) \nAll players/teams will get 3 pool play games followed by a double elimination bracket play tournament! That’s 5 full games to 21! \nPrizes for 1st place will win a brand new OPTX ball and second place will get a Phoenix beach hoodie with a full field of 24 players!
URL:https://phoenixbeachvb.com/event/friday-night-draw-2021-08-13-2021-08-27-2021-10-01-2021-12-10-2022-09-16-2022-11-11-2022-12-09/2023-11-17/
LOCATION:RT O’Sullivan’s\, 7919 E Thomas Rd #101\, Scottsdale\, AZ\, 85251\, United States
END:VEVENT
BEGIN:VEVENT
DTSTART;TZID=America/Phoenix:20231117T180000
DTEND;TZID=America/Phoenix:20231117T180000
DTSTAMP:20260425T113633
CREATED:20231012T213140Z
LAST-MODIFIED:20231013T002829Z
UID:10001362-1700244000-1700244000@phoenixbeachvb.com
SUMMARY:Amy Park’s Birthday FND
DESCRIPTION:Let’s gooooo!! Birthday FND time! We are celebrating Amy Park\, out on the sand for a Friday Night Draw! She is soooo excited to have you all out! This tournament is going to be themed\, so get ready for some fun! As of now we’re capping at 32 players\, format is TBD. All spots are going to be reserved for Amy’s guests\, and any unfilled spots will go to the wait list! Be sure to get your spot locked in asap! \nCheck in is 6pm\, play begins at 630 sharp! Cost for this event is $30\, with prizes for ??with a full field! OPTX balls for first\, cash for second! \nVenmo – @phoenixbeachvb \nCashapp – $phoenixbeachvb \nZelle 480-249-2242
URL:https://phoenixbeachvb.com/event/amy-parks-birthday-rave-fnd/
LOCATION:RT O’Sullivan’s\, 7919 E Thomas Rd #101\, Scottsdale\, AZ\, 85251\, United States
END:VEVENT
END:VCALENDAR