BEGIN:VCALENDAR
VERSION:2.0
PRODID:-//Phoenix Beach Volleyball - ECPv6.15.20//NONSGML v1.0//EN
CALSCALE:GREGORIAN
METHOD:PUBLISH
X-WR-CALNAME:Phoenix Beach Volleyball
X-ORIGINAL-URL:https://phoenixbeachvb.com
X-WR-CALDESC:Events for Phoenix Beach Volleyball
REFRESH-INTERVAL;VALUE=DURATION:PT1H
X-Robots-Tag:noindex
X-PUBLISHED-TTL:PT1H
BEGIN:VTIMEZONE
TZID:America/Phoenix
BEGIN:STANDARD
TZOFFSETFROM:-0700
TZOFFSETTO:-0700
TZNAME:MST
DTSTART:20220101T000000
END:STANDARD
END:VTIMEZONE
BEGIN:VEVENT
DTSTART;TZID=America/Phoenix:20231124T120000
DTEND;TZID=America/Phoenix:20231124T170000
DTSTAMP:20260425T113642
CREATED:20231117T023255Z
LAST-MODIFIED:20231117T023255Z
UID:10001419-1700827200-1700845200@phoenixbeachvb.com
SUMMARY:Black Friday ACE tournament
DESCRIPTION:Did I say “ACE”? Yes I did! This will be the 4th annual Black Friday ACE Tournament! It will be THE PLACE TO BE! Start putting your best 6’s team together for this epic battle! 2 female minimum per team. \nCheck in at 11:30\, play begins at 12 noon! Each team will play 3-4 pool play games to 25 followed by a single elimination bracket. All games are win by 2\, capped at 27. \nIf you sign up on the website \, put in parentheses if you’re signing up a full team\, partial team or individual! \n$180 per team of 6\, and the entry fee includes 4 buckets (6 per bucket\, 2 of each flavor) of Svedka Vodka tropic beverages*! \nSign up by commenting in this event! Can sign up as a full team\, partial team or as a free agent! \nPrizes for first place will be a specialized Black Friday ACE Champion hoodie and a TBD prize. \nWhat’s “ACE”? It’s a volleyball game with a little twist. An ACE is when a team scores a point on their opponent without any one person on that team getting a touch on the ball. Typically when an ACE is scored\, the team must exit the court and drink. But\, this is a hybrid ACE event. All the fun\, little less on the requirements. If you haven’t played before\, pay attention. \nRules are as follows\, Very minimal rules at that: \n1. Drinking is only a suggestion. We are not promoting any excess drinking. Be responsible. \n2. When an ACE is scored\, we will NOT be chasing the ball (if the serving team recovers the ball on an ACE\, they can serve as soon as someone steps on the court\, normal rules). Instead\, we will be playing Rock/Paper/Scissors. The team that scored the ACE has to win twice to get the ball. The team that got ACE’d has to win once to keep the ball. \n3. When ACE’d\, one player from each team will play 1 round of Rock Paper Scissors to see who gets possession of the ball. If you lose the Rock Paper Scissors battle\, all players must exit the court. Those who choose to partake in the drinking festivities will then do so. EACH PLAYER WILL HAVE THEIR OWN DRINK. NO SHARING (Unless you’re ok with sharing\, then carry on). If at any point the serving team has the ball\, and the team that is off the court has a player step on the court\, the serving team can serve immediately. So don’t step on the court until everyone that is choosing to drink has finished and the entire team is ready to play. \n4. Teams must rotate. Back row players can attack the ball from anywhere on the court. There is no “back row” attacking rule. \n5. For safety\, aggressive net violations will be called. Be careful. We don’t want anyone to get hurt. Minor net contact is fine\, but don’t get your whole arm caught in the net. \n6. Blocking serves is LEGAL. Lifts are LEGAL. Doubles are LEGAL. Diving lift/throws are LEGAL (to keep the play alive). \n7. Have fun and be safe. The main goal is to get everyone together and have a great time playing volleyball! \n*buckets will be a set list to choose from*
URL:https://phoenixbeachvb.com/event/black-friday-ace-tournament/
END:VEVENT
BEGIN:VEVENT
DTSTART;TZID=America/Phoenix:20231124T180000
DTEND;TZID=America/Phoenix:20231124T180000
DTSTAMP:20260425T113642
CREATED:20210717T002134Z
LAST-MODIFIED:20241105T204132Z
UID:10001597-1700848800-1700848800@phoenixbeachvb.com
SUMMARY:Phoenix Beach “Winter Warriors” Coed Friday Night Draw
DESCRIPTION:Starting this week we are going to our winter schedule for Phoenix Beach Friday Night Draw at RTO Sullivan’s! Temps are dropping fast\, so we can only take up to 24 players for these events! This means you’ll sit less\, play more and get home sooner! Smaller\, faster tournaments\, more bang for your buck! Check in (player arrival) starts at 6PM\, and play begins at 630PM. This event is for all players C level and up! Any requests to play together will be accommodated\, as long as it’s not an unfairly strong team. \nThe cost is $30 per player\, payable via the following options:\nVenmo (phoenixbeachvb)\npaypal (phoenixbeachvb@gmail.com)\nCashApp ($phoenixbeachvb)\nZelle (480-249-2242) \nAll players/teams will get 3 pool play games followed by a double elimination bracket play tournament! That’s 5 full games to 21! \nPrizes for 1st place will win a brand new OPTX ball and second place will get a Phoenix beach hoodie with a full field of 24 players!
URL:https://phoenixbeachvb.com/event/friday-night-draw-2021-08-13-2021-08-27-2021-10-01-2021-12-10-2022-09-16-2022-11-11-2022-12-09/2023-11-24/
LOCATION:RT O’Sullivan’s\, 7919 E Thomas Rd #101\, Scottsdale\, AZ\, 85251\, United States
END:VEVENT
END:VCALENDAR