BEGIN:VCALENDAR
VERSION:2.0
PRODID:-//Phoenix Beach Volleyball - ECPv6.15.20//NONSGML v1.0//EN
CALSCALE:GREGORIAN
METHOD:PUBLISH
X-ORIGINAL-URL:https://phoenixbeachvb.com
X-WR-CALDESC:Events for Phoenix Beach Volleyball
REFRESH-INTERVAL;VALUE=DURATION:PT1H
X-Robots-Tag:noindex
X-PUBLISHED-TTL:PT1H
BEGIN:VTIMEZONE
TZID:America/Phoenix
BEGIN:STANDARD
TZOFFSETFROM:-0700
TZOFFSETTO:-0700
TZNAME:MST
DTSTART:20230101T000000
END:STANDARD
END:VTIMEZONE
BEGIN:VEVENT
DTSTART;TZID=America/Phoenix:20240203T103000
DTEND;TZID=America/Phoenix:20240203T170000
DTSTAMP:20260425T064047
CREATED:20240112T193230Z
LAST-MODIFIED:20240117T183327Z
UID:10001439-1706956200-1706979600@phoenixbeachvb.com
SUMMARY:Pick Your Poison Saturday Draw
DESCRIPTION:This tournament is a throw back format\, where you sign up based on the position you will play on your team! Do you want to set? Hit? Play defense? Here’s your chance! Teams are randomly drawn\, and if you choose hitter\, you will be ranked as an A or B level hitter to ensure each team has a big hitter on their team. Positions to sign up for are \n\nSetter (8)\nDefender (8)\nHitter (16)\n\nWhen you sign up\, put in parentheses what position you’re signing up for! \nTeams are not required\, but are encouraged to play the position they signed up for! \n\nCheck in 1030AM\nPlay begins at 11AM\nPool play is 3 Games to 21\nBracket play is double elimination games to 21\nCost – $30 per player\n\nWe will have prizes for ?? based on a full field of 32 players! \nPrize Pool of $420  \n\n$30 cash and custom District L/S hoodie each\nCustom Phoenix Beach T shirt each\n\nWays to pay \n\nVenmo @phoenixbeachvb\nZelle 480-249-2242\nCash day of\n\n*If you drop within 24 hours of the tournament\, you will be expected to cover your entry fee!*
URL:https://phoenixbeachvb.com/event/pick-your-poison-saturday-draw/
LOCATION:RT O’Sullivan’s\, 7919 E Thomas Rd #101\, Scottsdale\, AZ\, 85251\, United States
END:VEVENT
END:VCALENDAR