BEGIN:VCALENDAR
VERSION:2.0
PRODID:-//Phoenix Beach Volleyball - ECPv6.15.20//NONSGML v1.0//EN
CALSCALE:GREGORIAN
METHOD:PUBLISH
X-ORIGINAL-URL:https://phoenixbeachvb.com
X-WR-CALDESC:Events for Phoenix Beach Volleyball
REFRESH-INTERVAL;VALUE=DURATION:PT1H
X-Robots-Tag:noindex
X-PUBLISHED-TTL:PT1H
BEGIN:VTIMEZONE
TZID:America/Phoenix
BEGIN:STANDARD
TZOFFSETFROM:-0700
TZOFFSETTO:-0700
TZNAME:MST
DTSTART:20230101T000000
END:STANDARD
END:VTIMEZONE
BEGIN:VEVENT
DTSTART;TZID=America/Phoenix:20240225T103000
DTEND;TZID=America/Phoenix:20240225T170000
DTSTAMP:20260425T032030
CREATED:20240216T150416Z
LAST-MODIFIED:20240216T150634Z
UID:10001452-1708857000-1708880400@phoenixbeachvb.com
SUMMARY:Heathers Bday Swingers
DESCRIPTION:Hey yall\, Sunday the 25th! Put it down on your calendars! We are going to celebrate Heather Fishers big day out on the sand! This event is going to be a traditional Swingers tournament format. So find your partners and sign up! Each team gets 2 games on men’s net\, 2 games on the ladies net followed by a double elimination bracket where all games are played to 21\, switching side and format at 11! Higher seeded pair from the winners bracket gets to choose their net height at the beginning of each game. \n\nCHECK IN 1030\nPOOL PLAY 1100\nCOST $30\n\nWith a full field\, we will have a prize pool of epic proportions! \n\nFirst place will receive a new AVP OPTX ball (or) $30 cash back plus a custom Phoenix Beach hooded long sleeve\nSecond place will receive a custom T or tank\n\nWe will also have some water pong\, flip cup and other games to be played while you’re sitting! \nHappy Birthday Heather! Can’t wait to celebrate with you!
URL:https://phoenixbeachvb.com/event/heathers-bday-swingers/
LOCATION:RT O’Sullivan’s\, 7919 E Thomas Rd #101\, Scottsdale\, AZ\, 85251\, United States
END:VEVENT
END:VCALENDAR