BEGIN:VCALENDAR
VERSION:2.0
PRODID:-//Phoenix Beach Volleyball - ECPv6.15.20//NONSGML v1.0//EN
CALSCALE:GREGORIAN
METHOD:PUBLISH
X-ORIGINAL-URL:https://phoenixbeachvb.com
X-WR-CALDESC:Events for Phoenix Beach Volleyball
REFRESH-INTERVAL;VALUE=DURATION:PT1H
X-Robots-Tag:noindex
X-PUBLISHED-TTL:PT1H
BEGIN:VTIMEZONE
TZID:America/Phoenix
BEGIN:STANDARD
TZOFFSETFROM:-0700
TZOFFSETTO:-0700
TZNAME:MST
DTSTART:20230101T000000
END:STANDARD
END:VTIMEZONE
BEGIN:VEVENT
DTSTART;TZID=America/Phoenix:20240727T180000
DTEND;TZID=America/Phoenix:20240727T233000
DTSTAMP:20260424T193922
CREATED:20240207T171523Z
LAST-MODIFIED:20240618T221925Z
UID:10001453-1722103200-1722123000@phoenixbeachvb.com
SUMMARY:Team of the Beach Coed 4s
DESCRIPTION:**Team of Phoenix Beach**\n\n$600 Prize Pool with a full field!! \nDoes your squad have what it takes to be the best? Let’s find out! Phoenix Beach is hosting a BYOT King of the Beach Coed 4s tournament to see who can bring IT! Put your squads together and let’s battle it out on the sand at RTO Sullivan’s!\nThink KOB format. Each team will play 6 games in 2 different pools! All game played to 21\, with no cap. After 6 games\, records will be tallied and the top 4 teams will make it to the finals to see who reigns supreme! Remember\, there’s no pool play! All games matter from the very first serve!\n\nCheck in – 6pm\nPlay starts at 630pm\n Cost is $160 per team\n\nWe are only taking the first 8 teams! With a full field\, our MASSIVE prize for ? will be AVP OPTX balls AND $160 cash! ? will get a custom Phoenix Beach Tshirt or Tank top and $80 cash.  With the custom shirts\, You get to pick the shirt\, logo\, and design the colors on the logo! Prizes can adjusted based on size of the field.
URL:https://phoenixbeachvb.com/event/bee-why-oh-tee-coed-4s/
LOCATION:RT O’Sullivan’s\, 7919 E Thomas Rd #101\, Scottsdale\, AZ\, 85251\, United States
END:VEVENT
END:VCALENDAR