BEGIN:VCALENDAR
VERSION:2.0
PRODID:-//Phoenix Beach Volleyball - ECPv6.15.20//NONSGML v1.0//EN
CALSCALE:GREGORIAN
METHOD:PUBLISH
X-WR-CALNAME:Phoenix Beach Volleyball
X-ORIGINAL-URL:https://phoenixbeachvb.com
X-WR-CALDESC:Events for Phoenix Beach Volleyball
REFRESH-INTERVAL;VALUE=DURATION:PT1H
X-Robots-Tag:noindex
X-PUBLISHED-TTL:PT1H
BEGIN:VTIMEZONE
TZID:America/Phoenix
BEGIN:STANDARD
TZOFFSETFROM:-0700
TZOFFSETTO:-0700
TZNAME:MST
DTSTART:20230101T000000
END:STANDARD
END:VTIMEZONE
BEGIN:VEVENT
DTSTART;TZID=America/Phoenix:20240816T180000
DTEND;TZID=America/Phoenix:20240816T180000
DTSTAMP:20260424T175806
CREATED:20240806T223634Z
LAST-MODIFIED:20240807T000909Z
UID:10001539-1723831200-1723831200@phoenixbeachvb.com
SUMMARY:Parker Lee Foxx Birthday DRAW!!
DESCRIPTION:Hey yall\, we’re up for another birthday draw! This week it’s one of our fav Air Force guys out at Luke AFB\, Parker Foxx! We hope you all can come help him celebrate a big year! He was recently married\, officially taking on the role of step dad to an amazing 14 year old girl that he coaches for indoor\, and just an all around great guy! \nCheck in is 6pm\, play begins at 630!! We will be reserving spots for his people\, but we will be opening it up to you all as well! \nCost is $25 payable via Venmo @phoenixbeachvb or Zelle 480-249-2242 \nWe welcome all players C level and up! Come experience some of the best and softest sand you’ll ever play on! Great music\, great vibes and a lot of fun at Phoenix Beach! \nReminder\, we are playing at a bar so no outside food or drinks are welcome. \n#byavolleyballplayerforthevolleyballplayers
URL:https://phoenixbeachvb.com/event/parker-lee-foxx-birthday-draw/
LOCATION:RT O’Sullivan’s\, 7919 E Thomas Rd #101\, Scottsdale\, AZ\, 85251\, United States
END:VEVENT
END:VCALENDAR