BEGIN:VCALENDAR
VERSION:2.0
PRODID:-//Phoenix Beach Volleyball - ECPv6.15.20//NONSGML v1.0//EN
CALSCALE:GREGORIAN
METHOD:PUBLISH
X-ORIGINAL-URL:https://phoenixbeachvb.com
X-WR-CALDESC:Events for Phoenix Beach Volleyball
REFRESH-INTERVAL;VALUE=DURATION:PT1H
X-Robots-Tag:noindex
X-PUBLISHED-TTL:PT1H
BEGIN:VTIMEZONE
TZID:America/Phoenix
BEGIN:STANDARD
TZOFFSETFROM:-0700
TZOFFSETTO:-0700
TZNAME:MST
DTSTART:20230101T000000
END:STANDARD
END:VTIMEZONE
BEGIN:VEVENT
DTSTART;TZID=America/Phoenix:20240831T180000
DTEND;TZID=America/Phoenix:20240831T180000
DTSTAMP:20260424T165021
CREATED:20240824T190835Z
LAST-MODIFIED:20240826T044135Z
UID:10001542-1725127200-1725127200@phoenixbeachvb.com
SUMMARY:Saturday Night “Swingers”
DESCRIPTION:Doing something a little different this Saturday! We are going to do one of our more popular Sunday formats\, Traditional Swingers! \nSign up as a coed pair\, and stick with your partner all night long! Each pair will play 3 total games\, with each game being played on both mens nets and ladies nets\, with 3 different pairings!! After pool play\, you’ll be paired up with your first (and hopefully last!) teammates based on your pool play result for a fun filled double elimination bracket! If you lose\, you get another chance by partnering up with a different coed to team up with in the elimination bracket! All bracket play games are played on both net heights\, with rules applying for each format. The highest seeded team in the winners bracket gets to choose what format they want to start on! As teams drop into the elimination bracket\, the highest seed\, or the latest team to drop into the elimination bracket gets choice of format to start. \nWe are taking 16 pairs! \nCheck in is 6pm\, play begins at 630 sharp! Cost for this event is only $30 per player! \nPayable via the following options \nVenmo (@phoenixbeachvb) \nZelle (480-249-2242) \nCash or prizes for first ($240) and second place ($120) with a full field!
URL:https://phoenixbeachvb.com/event/friday-night-swingers/
END:VEVENT
END:VCALENDAR