BEGIN:VCALENDAR
VERSION:2.0
PRODID:-//Phoenix Beach Volleyball - ECPv6.15.20//NONSGML v1.0//EN
CALSCALE:GREGORIAN
METHOD:PUBLISH
X-WR-CALNAME:Phoenix Beach Volleyball
X-ORIGINAL-URL:https://phoenixbeachvb.com
X-WR-CALDESC:Events for Phoenix Beach Volleyball
REFRESH-INTERVAL;VALUE=DURATION:PT1H
X-Robots-Tag:noindex
X-PUBLISHED-TTL:PT1H
BEGIN:VTIMEZONE
TZID:America/Phoenix
BEGIN:STANDARD
TZOFFSETFROM:-0700
TZOFFSETTO:-0700
TZNAME:MST
DTSTART:20230101T000000
END:STANDARD
END:VTIMEZONE
BEGIN:VEVENT
DTSTART;TZID=America/Phoenix:20240929T103000
DTEND;TZID=America/Phoenix:20240929T170000
DTSTAMP:20260424T163350
CREATED:20230607T004311Z
LAST-MODIFIED:20241120T032323Z
UID:10000728-1727605800-1727629200@phoenixbeachvb.com
SUMMARY:Sunday Traditional Swingers
DESCRIPTION:!!Sunday Swingers!!\nCongratulations to our champs from last week! Nathan\, Emily\, Samantha\, and the newcomer Erik Velkme! Great job! And happy birthday to Jayce\, thanks for having Phoenix beach host your birthday celebration! It was an epic time! \nSunday is going to have some pretty awesome temps for some volleyball\, so let’s get out and enjoy it! Phoenix Beach will be hosting another Sunday Traditional Swingers tournament at RTOs! \nWe are taking up to 16 pairs\, first come first serve. Sign up by clicking the registration link in comments\, or commenting in the event!! Check in is at 1030\, play begins at 11AM. 6 full games to 21 are guaranteed!! \nphoenixbeachvb.com to sign up for all events! \nThe cost is only $35 per player\, with prizes for first (OPTX ball or AVP Backpack) and second place (custom Phoenix Beach hoodie) based on tournament sign ups. Tournament fees are payable via the following options:\nVenmo (phoenixbeachvb)\nCashApp ($phoenixbeachvb)\nZelle (480-249-2242) \nPlease ensure you are paid in full prior to tournament starting. Thank you. If you cancel within 24 hours you will be expected to pay your entry fee. Thanks for understanding
URL:https://phoenixbeachvb.com/event/sunday-swingers-draw-3/2024-09-29/
LOCATION:RT O’Sullivan’s\, 7919 E Thomas Rd #101\, Scottsdale\, AZ\, 85251\, United States
END:VEVENT
END:VCALENDAR