BEGIN:VCALENDAR
VERSION:2.0
PRODID:-//Phoenix Beach Volleyball - ECPv6.15.20//NONSGML v1.0//EN
CALSCALE:GREGORIAN
METHOD:PUBLISH
X-WR-CALNAME:Phoenix Beach Volleyball
X-ORIGINAL-URL:https://phoenixbeachvb.com
X-WR-CALDESC:Events for Phoenix Beach Volleyball
REFRESH-INTERVAL;VALUE=DURATION:PT1H
X-Robots-Tag:noindex
X-PUBLISHED-TTL:PT1H
BEGIN:VTIMEZONE
TZID:America/Phoenix
BEGIN:STANDARD
TZOFFSETFROM:-0700
TZOFFSETTO:-0700
TZNAME:MST
DTSTART:20230101T000000
END:STANDARD
END:VTIMEZONE
BEGIN:VEVENT
DTSTART;TZID=America/Phoenix:20241117T103000
DTEND;TZID=America/Phoenix:20241117T170000
DTSTAMP:20260424T133535
CREATED:20241025T171652Z
LAST-MODIFIED:20241129T062158Z
UID:10001561-1731839400-1731862800@phoenixbeachvb.com
SUMMARY:Sierras Birthday Sunday Swingers
DESCRIPTION:It’s Sierras birthday! Let’s gooooo! She wants to celebrate with all of you\, by playing some Sunday Swingers volleyball! Find your favorite coed partner and let’s make it happen! \nSierra will get her choice of pairings to play with throughout pool play\, and then can also choose which pair she wants to play with for bracket\, regardless of record! \nCheck in is at 1030\, play begins at 11. 6 full games to 21 are guaranteed!! \nThe cost is $35 per player\, with prizes for first and second place based on tournament sign ups. Tournament fees are payable via the following options:\nVenmo (phoenixbeachvb)\nZelle (480-249-2242)\nCash \nPlease ensure you are paid in full prior to tournament starting. Thank you. \n*Just a reminder\, no outside food or drink is allowed in the volleyball court/patio area. RTOs does sell Powerade\, as well as having an amazing food and drink menu. Please support the bar by purchasing your food and drink from them! Thank you*
URL:https://phoenixbeachvb.com/event/sierra-birthday-sunday-swingers-2/
LOCATION:RT O’Sullivan’s\, 7919 E Thomas Rd #101\, Scottsdale\, AZ\, 85251\, United States
END:VEVENT
END:VCALENDAR