BEGIN:VCALENDAR
VERSION:2.0
PRODID:-//Phoenix Beach Volleyball - ECPv6.15.20//NONSGML v1.0//EN
CALSCALE:GREGORIAN
METHOD:PUBLISH
X-WR-CALNAME:Phoenix Beach Volleyball
X-ORIGINAL-URL:https://phoenixbeachvb.com
X-WR-CALDESC:Events for Phoenix Beach Volleyball
REFRESH-INTERVAL;VALUE=DURATION:PT1H
X-Robots-Tag:noindex
X-PUBLISHED-TTL:PT1H
BEGIN:VTIMEZONE
TZID:America/Phoenix
BEGIN:STANDARD
TZOFFSETFROM:-0700
TZOFFSETTO:-0700
TZNAME:MST
DTSTART:20240101T000000
END:STANDARD
END:VTIMEZONE
BEGIN:VEVENT
DTSTART;TZID=America/Phoenix:20250110T180000
DTEND;TZID=America/Phoenix:20250110T180000
DTSTAMP:20260424T091619
CREATED:20250106T173747Z
LAST-MODIFIED:20250106T173747Z
UID:10001623-1736532000-1736532000@phoenixbeachvb.com
SUMMARY:First Frosty 4s of 2025 FND
DESCRIPTION:It’s time to ring in the new year with our first FND of 2025! It’s still our winter schedule for Phoenix Beach Friday Night Draw at RTO Sullivan’s\, so that means discounted entry fees and faster tournaments! \nTemps are dropping as soon as the sun goes down so we are only take up to 24 players for these events! This means you’ll sit less\, play more and get home sooner! Smaller\, faster tournaments\, plus more bang for your buck with the $25 entry fee!! Check in (player arrival) starts at 6PM\, and play begins at 630PM. This event is for all players C level and up! Any requests to play together will be accommodated\, as long as it’s not an unfairly strong team. \nThe cost is $25 per player\, payable via the following options:\nVenmo (phoenixbeachvb)\npaypal (phoenixbeachvb@gmail.com)\nCashApp ($phoenixbeachvb)\nZelle (480-249-2242) \nAll players/teams will get 3 pool play games followed by a double elimination bracket play tournament! That’s 5 full games to 21! \nThe prize for 1st place is a brand new OPTX ball\, and it’s winner take all!
URL:https://phoenixbeachvb.com/event/first-frosty-4s-of-2025-fnd/
LOCATION:RT O’Sullivan’s\, 7919 E Thomas Rd #101\, Scottsdale\, AZ\, 85251\, United States
END:VEVENT
END:VCALENDAR