BEGIN:VCALENDAR
VERSION:2.0
PRODID:-//Phoenix Beach Volleyball - ECPv6.15.20//NONSGML v1.0//EN
CALSCALE:GREGORIAN
METHOD:PUBLISH
X-ORIGINAL-URL:https://phoenixbeachvb.com
X-WR-CALDESC:Events for Phoenix Beach Volleyball
REFRESH-INTERVAL;VALUE=DURATION:PT1H
X-Robots-Tag:noindex
X-PUBLISHED-TTL:PT1H
BEGIN:VTIMEZONE
TZID:America/Phoenix
BEGIN:STANDARD
TZOFFSETFROM:-0700
TZOFFSETTO:-0700
TZNAME:MST
DTSTART:20240101T000000
END:STANDARD
END:VTIMEZONE
BEGIN:VEVENT
DTSTART;TZID=America/Phoenix:20250119T103000
DTEND;TZID=America/Phoenix:20250119T170000
DTSTAMP:20260424T091709
CREATED:20250108T174346Z
LAST-MODIFIED:20250108T191117Z
UID:10001624-1737282600-1737306000@phoenixbeachvb.com
SUMMARY:Kim’s Arkansas BFFs BFF Swingers!
DESCRIPTION:Kim’s BFFs Swingers\nHey y’all\, Kim has some friends from Arkansas coming to visit us in the desert\, and they want to get some ball in! The request is for BFF so they can all partner up\, so let’s make that happen! \nFind your same gender partner and sign up for a day of fun in the sun! All pairs will play 4 games of pool play\, 4 different formats! Something new here at Phoenix Beach! Two games will be coed 4s\, one on men’s net and one on ladies net\, one game of half men’s/ladies net\, and one game of same sex 4s! After pool play\, each pair will get matched up with the opposite gender pair with the same seeding (first overall seeds get paired together\, then second\, etc). Bracket play is double elimination! If you lose with your current pair\, you will be randomly matched with a new pair for the contenders bracket. \nSign ups must be equal men’s and ladies pairs! Taking up to 8 pairs of each gender! \nHere are the other important deets!! \n\nCost is $35 per player payable via Cash\, Venmo @phoenixbeachvb or Zelle 490-249-2242\nCheck in at 1030AM\nPool Play begins at 11AM\nBracket play will begin at approximately 2:30.\nPrizes with a full field will be AVP OPTX or backpack for 1st place. Phoenix Beach Swag for 2nd place.\n\nIf you drop within 24 hours of the start of the tournament\, you are responsible to pay for your entry fees. Thank you.
URL:https://phoenixbeachvb.com/event/kim-larson-and-her-arkansas-friends-bff-swingers/
LOCATION:RT O’Sullivan’s\, 7919 E Thomas Rd #101\, Scottsdale\, AZ\, 85251\, United States
END:VEVENT
END:VCALENDAR