BEGIN:VCALENDAR
VERSION:2.0
PRODID:-//Phoenix Beach Volleyball - ECPv6.15.20//NONSGML v1.0//EN
CALSCALE:GREGORIAN
METHOD:PUBLISH
X-ORIGINAL-URL:https://phoenixbeachvb.com
X-WR-CALDESC:Events for Phoenix Beach Volleyball
REFRESH-INTERVAL;VALUE=DURATION:PT1H
X-Robots-Tag:noindex
X-PUBLISHED-TTL:PT1H
BEGIN:VTIMEZONE
TZID:America/Phoenix
BEGIN:STANDARD
TZOFFSETFROM:-0700
TZOFFSETTO:-0700
TZNAME:MST
DTSTART:20240101T000000
END:STANDARD
END:VTIMEZONE
BEGIN:VEVENT
DTSTART;TZID=America/Phoenix:20250202T103000
DTEND;TZID=America/Phoenix:20250202T170000
DTSTAMP:20260424T091711
CREATED:20240207T040817Z
LAST-MODIFIED:20250128T221847Z
UID:10001629-1738492200-1738515600@phoenixbeachvb.com
SUMMARY:Sunday King/Queen of the Beach Swingers Edition
DESCRIPTION:Let’s run a King and Queen of the Beach\, Swingers Edition! This format will allow us to give everyone a minimum of 6 full games to 21! \nLet’s gooooo! We’re going to give out some BIG prizes for this one! Everyone who makes the final court will walk away with a prize! Will it be the top prize of an AVP OPTX Ball AND Wilson AVP Backpack for the winning pair*?? Let’s find out! \nWe’re taking up to 16 pairs for this event! Join us for an exhilarating tournament where all pairs compete for the titles of King and Queen of Phoenix Beach. Each pair engages in a minimum of 6 games\, with finalists battling it out in a thrilling 9-game showdown. The stakes are high as the games unfold\, with only the top 4 pairs making it to the finals! Games are played to 21\, alternating between the men’s and ladies’ nets. Who will emerge victorious and claim the royal titles? Don’t miss the excitement on the court! \nCheck in – 1030AM\nPlay begins at 11AM\nCost – $70 per pair\n*Total prize pool with a full field- over $400!!!* \nFirst place – AVP OPTX Ball and Backpack \nSecond place – customized Phoenix Beach hoodie \nFinalists – Custom Phoenix Beach Tshirt or tank top \nHow to pay \nVenmo @phoenixbeachvb\nZelle 480-249-2242\nCash day of
URL:https://phoenixbeachvb.com/event/king-queen-of-the-beach/2025-02-02/
LOCATION:RT O’Sullivan’s\, 7919 E Thomas Rd #101\, Scottsdale\, AZ\, 85251\, United States
END:VEVENT
END:VCALENDAR