BEGIN:VCALENDAR
VERSION:2.0
PRODID:-//Phoenix Beach Volleyball - ECPv6.15.20//NONSGML v1.0//EN
CALSCALE:GREGORIAN
METHOD:PUBLISH
X-ORIGINAL-URL:https://phoenixbeachvb.com
X-WR-CALDESC:Events for Phoenix Beach Volleyball
REFRESH-INTERVAL;VALUE=DURATION:PT1H
X-Robots-Tag:noindex
X-PUBLISHED-TTL:PT1H
BEGIN:VTIMEZONE
TZID:America/Phoenix
BEGIN:STANDARD
TZOFFSETFROM:-0700
TZOFFSETTO:-0700
TZNAME:MST
DTSTART:20240101T000000
END:STANDARD
END:VTIMEZONE
BEGIN:VEVENT
DTSTART;TZID=America/Phoenix:20250419T093000
DTEND;TZID=America/Phoenix:20250419T170000
DTSTAMP:20260424T044441
CREATED:20250323T002712Z
LAST-MODIFIED:20250323T002832Z
UID:10001724-1745055000-1745082000@phoenixbeachvb.com
SUMMARY:Liz and Lanae’s “Fast Twos” Birthday Tournament
DESCRIPTION:HAPPY BIRTHDAY LIZ AND LANAE!!\nIt’s time for some birthday\n!!Fast Twos!!\nNo Partner Needed\, just come to party with these two lovely ladies celebrate another year of blessing our lives! \nWhat is fast twos\, you ask? It is a fun variation of side out King Of The Court doubles that you’ve all most likely seen on the FIVB circuit! Also\, it’s Liz Eddys favorite favorite format of volleyball! And we all know Lanae loves her some doubles!! \nEveryone signs up as an individual and you play timed rounds of doubles with different partners almost every time you step on the sand! Reloads allowed on missed serves during pool play! \nPlayers score (or lose) points if any of the following happens: \n\n“Side out” on the King/Queen side (both players get a point)\nServe a one touch or no touch Ace! (Server gets a point)\nBlocker gets a one touch or no touch block from the serve side. (Blocker gets a point)\nMiss 2 serves in a row loses a point for that player.\nANY missed serve in the last 3 minutes of a round\, K/Q side gets a point!!!\n\nPool play will consist of every player playing 2 timed rounds of fast twos with two different pools. After the two rounds of pool play\, players will be seeded in order of how they finished pool play and proceed into elimination rounds. The elimination rounds will be timed rounds based on how many players are in the pool and at the end of the round\, the bottom player/s will be eliminated from each group (eliminations based on how many players are signed up). Each round will have eliminations until we get to our final “Fast Twos” pool of the top 7 players\, which will be the championship round! We will crown our champion when the first player reaches 21 points!! \nThis format is very strenuous with a lot of volleyball being played with many different partners. Let’s see who can reign supreme! \n\nCheck in 930AM (earlier start because Lanae didn’t request work off 🙄)\nPlay begins at 10AM\nPrizes for our top 7 players with our top player  taking home a brand new OPTX ball and AVP backpack with a full field!! Second place will get their choice of an OPTX ball or backpack\, 3rd place will win a custom Phoenix Beach Hoodie. 4-7th will win Phoenix Beach tees or tanks!\n$34 per player payable via Venmo @phoenixbeachvb\, Zelle 480-249-2242 or cash. Why $34\, well Liz is turning 33 and Lanae is turning 35! So we’re meeting in the middle.
URL:https://phoenixbeachvb.com/event/liz-and-lanaes-fast-twos-birthday-tournament/2025-04-19/
LOCATION:RT O’Sullivan’s\, 7919 E Thomas Rd #101\, Scottsdale\, AZ\, 85251\, United States
END:VEVENT
END:VCALENDAR