BEGIN:VCALENDAR
VERSION:2.0
PRODID:-//Phoenix Beach Volleyball - ECPv6.15.20//NONSGML v1.0//EN
CALSCALE:GREGORIAN
METHOD:PUBLISH
X-WR-CALNAME:Phoenix Beach Volleyball
X-ORIGINAL-URL:https://phoenixbeachvb.com
X-WR-CALDESC:Events for Phoenix Beach Volleyball
REFRESH-INTERVAL;VALUE=DURATION:PT1H
X-Robots-Tag:noindex
X-PUBLISHED-TTL:PT1H
BEGIN:VTIMEZONE
TZID:America/Phoenix
BEGIN:STANDARD
TZOFFSETFROM:-0700
TZOFFSETTO:-0700
TZNAME:MST
DTSTART:20240101T000000
END:STANDARD
END:VTIMEZONE
BEGIN:VEVENT
DTSTART;TZID=America/Phoenix:20250503T163000
DTEND;TZID=America/Phoenix:20250503T233000
DTSTAMP:20260424T030017
CREATED:20250312T040808Z
LAST-MODIFIED:20250417T215415Z
UID:10001718-1746289800-1746315000@phoenixbeachvb.com
SUMMARY:VLA Vanguard Fundraiser (beach supporting hardcourt!)
DESCRIPTION:🏐 Support VLA Vanguard this season in their inaugural season! 🏐\nWe are super excited to announce that Phoenix Beach will be sponsoring an PRO INDOOR TEAM\, VLA VANGUARD! That’s right\, we are a beach company representing an awesome indoor team. We’ve had the pleasure of having a few of their players in our Monday night A league and these guys can ball! This is their first season playing in the pro indoor volleyball league\, VLA. They are an up and coming team in the making\, playing against some top tier teams around the nation! \nJoin us for our first fundraising event! And it will be a fun one. This event will be an indoor style 6s tournament on the beach!! Each team needs 2 females minimum. The rules will be mostly indoor rules with rotations\, setting and attacking rules! It’s definitely going to be an awesome time! \n📍 When & Where: \n🗓 Saturday May 3rd @ RTO Sullivans in Scottsdale | \n⏰ Check-in: 430PM | First Serve: 5PM \n💲 $25 per player ($150 per team) \n3 Pool play games followed by a double elimination bracket. \n🏆 Top 2 teams win awesome prizes!! \nLet’s make this event a huge success—come play\, cheer\, and support Team Vanguard on their first season in VLA! 🔥🏐 \nWhen you sign up\, please notate if you’re a free agent or signing up with a team!\n\nPlease ensure you are paid in full prior to tournament starting. Thank you. If you cancel within 24 hours you will be expected to pay your entry fee. Thanks for understanding
URL:https://phoenixbeachvb.com/event/vla-vanguard-fundraiser-beach-supporting-hardcourt/
LOCATION:RT O’Sullivan’s\, 7919 E Thomas Rd #101\, Scottsdale\, AZ\, 85251\, United States
END:VEVENT
END:VCALENDAR