BEGIN:VCALENDAR
VERSION:2.0
PRODID:-//Phoenix Beach Volleyball - ECPv6.15.20//NONSGML v1.0//EN
CALSCALE:GREGORIAN
METHOD:PUBLISH
X-WR-CALNAME:Phoenix Beach Volleyball
X-ORIGINAL-URL:https://phoenixbeachvb.com
X-WR-CALDESC:Events for Phoenix Beach Volleyball
REFRESH-INTERVAL;VALUE=DURATION:PT1H
X-Robots-Tag:noindex
X-PUBLISHED-TTL:PT1H
BEGIN:VTIMEZONE
TZID:America/Phoenix
BEGIN:STANDARD
TZOFFSETFROM:-0700
TZOFFSETTO:-0700
TZNAME:MST
DTSTART:20240101T000000
END:STANDARD
END:VTIMEZONE
BEGIN:VEVENT
DTSTART;TZID=America/Phoenix:20250516T180000
DTEND;TZID=America/Phoenix:20250516T180000
DTSTAMP:20260424T030752
CREATED:20210717T002134Z
LAST-MODIFIED:20250527T220017Z
UID:10000497-1747418400-1747418400@phoenixbeachvb.com
SUMMARY:Phoenix Beach “Early Bird” Coed Friday Night Draw
DESCRIPTION:Early Bird FND\nPhoenix Beach will be hosting Friday Night Coed Draws at RTOs!! We are taking up to 32 players\, first come first serve. Early bird signups will save $5 off of their entry fee by signing up before 5pm on Wednesday! Check in is at 6pm\, play begins at 630. 6 full games to 21 are guaranteed!! \nThe cost is ONLY $25 per player ($20 if you sign up early!) \, with prizes for first and second place based on tournament sign ups. Tournament fees are payable via the following options: \nVenmo (phoenixbeachvb)\nZelle (480-249-2242) \nPlease ensure you are paid in full prior to tournament starting. Thank you. \nPrize pool for first and second place with a full field!!
URL:https://phoenixbeachvb.com/event/friday-night-draw-2021-08-13-2021-08-27-2021-10-01-2021-12-10-2022-05-06/
LOCATION:RT O’Sullivan’s\, 7919 E Thomas Rd #101\, Scottsdale\, AZ\, 85251\, United States
END:VEVENT
END:VCALENDAR