BEGIN:VCALENDAR
VERSION:2.0
PRODID:-//Phoenix Beach Volleyball - ECPv6.15.20//NONSGML v1.0//EN
CALSCALE:GREGORIAN
METHOD:PUBLISH
X-WR-CALNAME:Phoenix Beach Volleyball
X-ORIGINAL-URL:https://phoenixbeachvb.com
X-WR-CALDESC:Events for Phoenix Beach Volleyball
REFRESH-INTERVAL;VALUE=DURATION:PT1H
X-Robots-Tag:noindex
X-PUBLISHED-TTL:PT1H
BEGIN:VTIMEZONE
TZID:America/Phoenix
BEGIN:STANDARD
TZOFFSETFROM:-0700
TZOFFSETTO:-0700
TZNAME:MST
DTSTART:20240101T000000
END:STANDARD
END:VTIMEZONE
BEGIN:VEVENT
DTSTART;TZID=America/Phoenix:20250523T180000
DTEND;TZID=America/Phoenix:20250523T180000
DTSTAMP:20260424T030751
CREATED:20250116T210702Z
LAST-MODIFIED:20250515T193833Z
UID:10001734-1748023200-1748023200@phoenixbeachvb.com
SUMMARY:GIRL POWER Reverse Coed FND
DESCRIPTION:Girl Power\nGirls rule\, boys drool! This weeks Friday Night Draw at RTOs is for the ladies to take charge!! Reverse coed rules! Gals\, you control the net! Guys\, you’ll be setting and playing defense for the ladies! \nEarly bird special applies for this tournament as well! Sign up by Wednesday at 5pm to get in for only $20!! \nWe are taking up to 32 players\, and the number of guys signed up has a max of 16 or equal to the number of girls signed up. Check in is at 6PM\, play begins at 630. *If we do not get enough girls\, we will run it as a normal FND* \nThe cost is $25 per player\, unless you’re an early bird\, then it’s $20! Entry fees payable via \nVenmo (@phoenixbeachvb) \nZelle (480-249-2242) \nCash \nAll players/teams will get 3 pool play games followed by a double elimination bracket play tournament! That’s 5 games to 21! Pool play games are capped at 23\, bracket play games are no cap* \nPrizes for first and second place with a full field! \n 
URL:https://phoenixbeachvb.com/event/girl-power-reverse-coed-fnd/2025-05-23/
LOCATION:RT O’Sullivan’s\, 7919 E Thomas Rd #101\, Scottsdale\, AZ\, 85251\, United States
END:VEVENT
END:VCALENDAR