BEGIN:VCALENDAR
VERSION:2.0
PRODID:-//Phoenix Beach Volleyball - ECPv6.15.20//NONSGML v1.0//EN
CALSCALE:GREGORIAN
METHOD:PUBLISH
X-ORIGINAL-URL:https://phoenixbeachvb.com
X-WR-CALDESC:Events for Phoenix Beach Volleyball
REFRESH-INTERVAL;VALUE=DURATION:PT1H
X-Robots-Tag:noindex
X-PUBLISHED-TTL:PT1H
BEGIN:VTIMEZONE
TZID:America/Phoenix
BEGIN:STANDARD
TZOFFSETFROM:-0700
TZOFFSETTO:-0700
TZNAME:MST
DTSTART:20240101T000000
END:STANDARD
END:VTIMEZONE
BEGIN:VEVENT
DTSTART;TZID=America/Phoenix:20250606T180000
DTEND;TZID=America/Phoenix:20250606T180000
DTSTAMP:20260424T000743
CREATED:20220527T021147Z
LAST-MODIFIED:20250606T092957Z
UID:10001741-1749232800-1749232800@phoenixbeachvb.com
SUMMARY:Old school $10 Phoenix Beach FND
DESCRIPTION:Old school $10 Friday Night Draw! Let’s fill this event up in less than 24 hours with this smoking deal! Sign up individually and be placed on a team for the night! All players C players and up are welcome! \nCheck in for this event is 6pm\, with play beginning at 630pm. All players will get 3 pool play games followed by a double elimination bracket tournament. Thats 5 full games guaranteed! \nPayment Options: \nVenmo @phoenixbeachvb \nZelle 480-249-2242 \nPrizes will be some custom swag for 1st place! Winner take all!
URL:https://phoenixbeachvb.com/event/bring-your-own-team-ace-fnd/2025-06-06/
LOCATION:RT O’Sullivan’s\, 7919 E Thomas Rd #101\, Scottsdale\, AZ\, 85251\, United States
END:VEVENT
END:VCALENDAR