BEGIN:VCALENDAR
VERSION:2.0
PRODID:-//Phoenix Beach Volleyball - ECPv6.15.20//NONSGML v1.0//EN
CALSCALE:GREGORIAN
METHOD:PUBLISH
X-WR-CALNAME:Phoenix Beach Volleyball
X-ORIGINAL-URL:https://phoenixbeachvb.com
X-WR-CALDESC:Events for Phoenix Beach Volleyball
REFRESH-INTERVAL;VALUE=DURATION:PT1H
X-Robots-Tag:noindex
X-PUBLISHED-TTL:PT1H
BEGIN:VTIMEZONE
TZID:America/Phoenix
BEGIN:STANDARD
TZOFFSETFROM:-0700
TZOFFSETTO:-0700
TZNAME:MST
DTSTART:20240101T000000
END:STANDARD
END:VTIMEZONE
BEGIN:VEVENT
DTSTART;TZID=America/Phoenix:20250620T180000
DTEND;TZID=America/Phoenix:20250620T180000
DTSTAMP:20260424T000734
CREATED:20250609T180008Z
LAST-MODIFIED:20250620T143843Z
UID:10001743-1750442400-1750442400@phoenixbeachvb.com
SUMMARY:Noah Cottermans $10 Friday Night Draw
DESCRIPTION:Omaha! Omaha! \nWe are making an audible for tonight! $10 entry\, let’s fill it up for Noah! No partner needed! We just want players in the sand! \nWe all know him\, we all love him. The softest hands west of the Mississippi\, NOAH COTTERMAN IS IN TOWN AND WANTS SOME VB ACTION! We are making this a special Friday Night Draw event before Noah heads back to his head coaching job in Missouri! \nVenmo your entry fee of just $10 per player to @phoenixbeachvb when you register!
URL:https://phoenixbeachvb.com/event/noah-cottermans-friday-night-swingers/
LOCATION:RT O’Sullivan’s\, 7919 E Thomas Rd #101\, Scottsdale\, AZ\, 85251\, United States
END:VEVENT
END:VCALENDAR