BEGIN:VCALENDAR
VERSION:2.0
PRODID:-//Phoenix Beach Volleyball - ECPv6.15.20//NONSGML v1.0//EN
CALSCALE:GREGORIAN
METHOD:PUBLISH
X-WR-CALNAME:Phoenix Beach Volleyball
X-ORIGINAL-URL:https://phoenixbeachvb.com
X-WR-CALDESC:Events for Phoenix Beach Volleyball
REFRESH-INTERVAL;VALUE=DURATION:PT1H
X-Robots-Tag:noindex
X-PUBLISHED-TTL:PT1H
BEGIN:VTIMEZONE
TZID:America/Phoenix
BEGIN:STANDARD
TZOFFSETFROM:-0700
TZOFFSETTO:-0700
TZNAME:MST
DTSTART:20240101T000000
END:STANDARD
END:VTIMEZONE
BEGIN:VEVENT
DTSTART;TZID=America/Phoenix:20250621T173000
DTEND;TZID=America/Phoenix:20250621T233000
DTSTAMP:20260424T000734
CREATED:20250607T063511Z
LAST-MODIFIED:20250620T170919Z
UID:10001742-1750527000-1750548600@phoenixbeachvb.com
SUMMARY:Ensings Birthday BFF Shuffle
DESCRIPTION:🎉 BFF Swingers Birthday Bash for Eric Ensing! 🎉 \nJoin us for a special birthday edition of our favorite format — it’s time to celebrate Eric Ensing the only way we know how: with sand\, swings\, and spicy volleyball vibes! 🏐🎂 \n📍 Location: RTO Sullivans in Scottsdale \n🕟 Check-In: 5 PM \n🕔 Play Begins: 5:30ish PM \n💸 Cost: $40 per player \n🎮 Format: 4 rounds of pool play\, each with a different format to keep things wild and fun! \n🔁 After the 4 rounds\, we’ll seed into a bracket based on performance — but here’s the twist: \n🎁 Birthday Boy Privilege — Eric gets to pick his girl pairing to swing with for bracket play! \nExpect laughs\, chaos\, competition\, and plenty of partner-swapping (on the court\, of course 😉). Spots will fill up fast\, so lock in now and help us celebrate our BFF in true swingers style! As always\, the birthday guest is in control of the guest list! If you get moved to the waitlist\, don’t be offended! You still might get in! \nFirst place will win our custom Phoenix Beach SLUNKS!! \nTag your crew and let’s party on the sand! 🥳🏐 \n#BFFSwingers #BirthdayBallin #EricEnsingDay #VolleyballVibes #SwingersStyle #CustomSlunks
URL:https://phoenixbeachvb.com/event/ensings-birthday-bff-shuffle/
LOCATION:RT O’Sullivan’s\, 7919 E Thomas Rd #101\, Scottsdale\, AZ\, 85251\, United States
END:VEVENT
END:VCALENDAR