BEGIN:VCALENDAR
VERSION:2.0
PRODID:-//Phoenix Beach Volleyball - ECPv6.15.20//NONSGML v1.0//EN
CALSCALE:GREGORIAN
METHOD:PUBLISH
X-ORIGINAL-URL:https://phoenixbeachvb.com
X-WR-CALDESC:Events for Phoenix Beach Volleyball
REFRESH-INTERVAL;VALUE=DURATION:PT1H
X-Robots-Tag:noindex
X-PUBLISHED-TTL:PT1H
BEGIN:VTIMEZONE
TZID:America/Phoenix
BEGIN:STANDARD
TZOFFSETFROM:-0700
TZOFFSETTO:-0700
TZNAME:MST
DTSTART:20240101T000000
END:STANDARD
END:VTIMEZONE
BEGIN:VEVENT
DTSTART;TZID=America/Phoenix:20250712T170000
DTEND;TZID=America/Phoenix:20250712T170000
DTSTAMP:20260423T222911
CREATED:20250615T182602Z
LAST-MODIFIED:20250615T182602Z
UID:10001747-1752339600-1752339600@phoenixbeachvb.com
SUMMARY:Bella’s Birthday Shuffle!!
DESCRIPTION:🎉 BIRTHDAY BASH for BELLA! 🎉 \nWe’re throwing down a shuffle draw to celebrate the queen herself! 👑 \n🔥 40 players only – 20 guys\, 20 girls \n💸 $40/player \n🕑 Check-in now at 5:00 PM | 📅 July 12th \n📲 Venmo @phoenixbeachvb \nEach player gets 4 pool play games with 4 random teams to determine their bracket partner! Each game will be a different format ( 2 half and half\, 1 game of reg coed 4s and 1 game of same sex 4s! \nTop guy + top girl team up… \nEXCEPT for Bella – she gets to PICK her partner aaaaand teammates and stay with them the whole tournament! 💥 \n🏆 PRIZES for 1st\, 2nd & 3rd! \n🥇 1st place wins the NEW custom 2025 Phoenix Beach Slunks! \nSpots are limited\, so don’t wait—grab yours now and help us celebrate the one and only Bella! 💃🎂 \nAll spots are reserved for her guest list\, so if you’re moved to the waitlist\, please understand that’s why!
URL:https://phoenixbeachvb.com/event/bellas-birthday-shuffle/
LOCATION:RT O’Sullivan’s\, 7919 E Thomas Rd #101\, Scottsdale\, AZ\, 85251\, United States
END:VEVENT
END:VCALENDAR