BEGIN:VCALENDAR
VERSION:2.0
PRODID:-//Phoenix Beach Volleyball - ECPv6.15.20//NONSGML v1.0//EN
CALSCALE:GREGORIAN
METHOD:PUBLISH
X-ORIGINAL-URL:https://phoenixbeachvb.com
X-WR-CALDESC:Events for Phoenix Beach Volleyball
REFRESH-INTERVAL;VALUE=DURATION:PT1H
X-Robots-Tag:noindex
X-PUBLISHED-TTL:PT1H
BEGIN:VTIMEZONE
TZID:America/Phoenix
BEGIN:STANDARD
TZOFFSETFROM:-0700
TZOFFSETTO:-0700
TZNAME:MST
DTSTART:20240101T000000
END:STANDARD
END:VTIMEZONE
BEGIN:VEVENT
DTSTART;TZID=America/Phoenix:20250718T180000
DTEND;TZID=America/Phoenix:20250718T180000
DTSTAMP:20260423T222911
CREATED:20250623T165639Z
LAST-MODIFIED:20250623T171339Z
UID:10001749-1752861600-1752861600@phoenixbeachvb.com
SUMMARY:Brittany’s Birthday FND Shenanigans
DESCRIPTION:🎉 BFF Swingers Birthday Bash for Brittany! 🎉 \nWe’re throwing down in the sand to celebrate Brittany Dominguez — the queen of chaos\, competition\, and killer cross-court shots! 💅🏐 \nFormat will be BFF Swingers\, with one round coed men’s net\, one round coed ladies net and one round of same sex 4s! \n📍 Location: RTO Sullivans in Scottsdale \n📅 July 18th \n🕟 Check-In: 6 PM \n🕔 Play Begins: 6:30 PM \n💸 Cost: $40 per player \n🏆 will win a pair of Phoenix Beach Slunks \n🥈 will win an AVP OPTX ball or backpack \n🎮 Format: \n3 rounds of pool play — each round features a different format to keep you on your toes! You’ll partner with different opposite gender pairings each round before heading into bracket play. \n🔁 Bracket teams will be based on pool play results! Finish first in pool\, and you get to pick your pair to play with in playoffs! Picks will be made in the order of pool play results! If first seed chooses the 2nd seed\, then 3rd seed will get next pick\, and so on. If you lose\, you will get a new pairing\, and it might be at random! \nBut first\, Brittany – the birthday girl gets to choose her ride-or-die teammates for the entirety of bracket! \nIt’s fun\, it’s flirty\, and it’s full of good volleyball energy. Come swing into the sand and help us make Brittany’s birthday one to remember! 💃🏐 \nSpots are limited\, so grab yours ASAP! Guest list is reserved for Britts peeps until July 17th\, so if you get moved to the waitlist before then\, that is why! \n  \n#BFFSwingers #BirthdayBritt #DominguezDomination #VolleyParty #SwingIntoTheSand
URL:https://phoenixbeachvb.com/event/brittanys-birthday-fnd-shenanigans/
LOCATION:RT O’Sullivan’s\, 7919 E Thomas Rd #101\, Scottsdale\, AZ\, 85251\, United States
END:VEVENT
END:VCALENDAR