BEGIN:VCALENDAR
VERSION:2.0
PRODID:-//Phoenix Beach Volleyball - ECPv6.15.20//NONSGML v1.0//EN
CALSCALE:GREGORIAN
METHOD:PUBLISH
X-WR-CALNAME:Phoenix Beach Volleyball
X-ORIGINAL-URL:https://phoenixbeachvb.com
X-WR-CALDESC:Events for Phoenix Beach Volleyball
REFRESH-INTERVAL;VALUE=DURATION:PT1H
X-Robots-Tag:noindex
X-PUBLISHED-TTL:PT1H
BEGIN:VTIMEZONE
TZID:America/Phoenix
BEGIN:STANDARD
TZOFFSETFROM:-0700
TZOFFSETTO:-0700
TZNAME:MST
DTSTART:20240101T000000
END:STANDARD
END:VTIMEZONE
BEGIN:VEVENT
DTSTART;TZID=America/Phoenix:20250725T180000
DTEND;TZID=America/Phoenix:20250725T180000
DTSTAMP:20260423T222825
CREATED:20250623T182337Z
LAST-MODIFIED:20250722T172745Z
UID:10001750-1753466400-1753466400@phoenixbeachvb.com
SUMMARY:Kayla Nuccio’s Fundraiser for her dad
DESCRIPTION:❤️ Fundraiser Volleyball Night for Kayla Nuccio’s Dad ❤️ \nFriday\, July 25th | Check-In at 6PM \nUpdate! Kayla’s dad was able to receive a heart transplant! He’s recovering and doing well! Thank you to everyone who has played even a small part in his transplant and his recovery! \nJoin us as we rally for one of our own! Kayla Nuccio’s father is currently hospitalized with a heart pump and will remain there until he receives a heart transplant. We’re coming together to help support their family during this incredibly tough time by hosting a fundraiser volleyball tournament to assist with medical and personal expenses. \n🏐 DETAILS: \n\n$25/player — up to 40 players max\nEach player gets 3 pool play games\, followed by a double elimination bracket\nPrizes for 1st & 2nd place!\n\n🎟️ RAFFLE FUN! \nWe’ll have a variety of amazing raffle items up for grabs! \n\n$5 per ticket\nOR 5 tickets for $20\n\nLet’s pack the sand and show up for Kayla’s dad with our hearts and our support! \nSpots will go fast — don’t wait! \n💰 Venmo: @Kayla-Nuccio \n📍 Location: RTO Sullivans in Scottsdale
URL:https://phoenixbeachvb.com/event/kayla-nuccios-fundraiser-for-her-dad/
LOCATION:RT O’Sullivan’s\, 7919 E Thomas Rd #101\, Scottsdale\, AZ\, 85251\, United States
END:VEVENT
END:VCALENDAR