BEGIN:VCALENDAR
VERSION:2.0
PRODID:-//Phoenix Beach Volleyball - ECPv6.15.20//NONSGML v1.0//EN
CALSCALE:GREGORIAN
METHOD:PUBLISH
X-WR-CALNAME:Phoenix Beach Volleyball
X-ORIGINAL-URL:https://phoenixbeachvb.com
X-WR-CALDESC:Events for Phoenix Beach Volleyball
REFRESH-INTERVAL;VALUE=DURATION:PT1H
X-Robots-Tag:noindex
X-PUBLISHED-TTL:PT1H
BEGIN:VTIMEZONE
TZID:America/Phoenix
BEGIN:STANDARD
TZOFFSETFROM:-0700
TZOFFSETTO:-0700
TZNAME:MST
DTSTART:20240101T000000
END:STANDARD
END:VTIMEZONE
BEGIN:VEVENT
DTSTART;TZID=America/Phoenix:20250905T170000
DTEND;TZID=America/Phoenix:20250905T170000
DTSTAMP:20260423T193827
CREATED:20250805T165203Z
LAST-MODIFIED:20250905T000234Z
UID:10001761-1757091600-1757091600@phoenixbeachvb.com
SUMMARY:Ambers Bday Extravaganza
DESCRIPTION:🎉 Amber’s Birthday Draw! 🎉 \nFriday\, September 5th \n📍 RTO Sullivan’s – Scottsdale \n🕕 Check-in NOW AT 5:00 PM!! Spread the word! \n🎟️ $40 Entry \nCome celebrate Amber the only way she knows how — with a night of competitive chaos and birthday vibes at RTO’s! \n🏐 Format: His/Hers Net Shuffle \n🥇 1st Place: Custom Slunks \n🥈 2nd Place: AVP OPTX Volleyballs \n💛 Spots are reserved for Amber’s close friends first. \nOthers may be moved to the waitlist until further notice. \n📲 Venmo @phoenixbeachvb or Zelle 480-249-2242\, or cash —
URL:https://phoenixbeachvb.com/event/ambers-bday-extravaganza/
LOCATION:RT O’Sullivan’s\, 7919 E Thomas Rd #101\, Scottsdale\, AZ\, 85251\, United States
END:VEVENT
END:VCALENDAR