BEGIN:VCALENDAR
VERSION:2.0
PRODID:-//Phoenix Beach Volleyball - ECPv6.15.20//NONSGML v1.0//EN
CALSCALE:GREGORIAN
METHOD:PUBLISH
X-ORIGINAL-URL:https://phoenixbeachvb.com
X-WR-CALDESC:Events for Phoenix Beach Volleyball
REFRESH-INTERVAL;VALUE=DURATION:PT1H
X-Robots-Tag:noindex
X-PUBLISHED-TTL:PT1H
BEGIN:VTIMEZONE
TZID:America/Phoenix
BEGIN:STANDARD
TZOFFSETFROM:-0700
TZOFFSETTO:-0700
TZNAME:MST
DTSTART:20240101T000000
END:STANDARD
END:VTIMEZONE
BEGIN:VEVENT
DTSTART;TZID=America/Phoenix:20251003T180000
DTEND;TZID=America/Phoenix:20251003T180000
DTSTAMP:20260423T181714
CREATED:20250923T163329Z
LAST-MODIFIED:20251002T154656Z
UID:10001771-1759514400-1759514400@phoenixbeachvb.com
SUMMARY:Bea’s Super Shuffle Retirement Celebration!!
DESCRIPTION:🎉 Bea’s Retirement Tournament 🎉\nIt’s time to celebrate Bea’s retirement!! From work of course\, we know she’s never going to retire from volleyball… let’s celebrate Bea starting the rest of her life in true Bea style—on the sand! She’s also the proud owner of a new knee and she’s not afraid to use it\, so get ready for a night of laughs\, competition\, and fun! There’s no other way to begin retirement by doing one of the things you absolutely love\, playing volleyball! \nCongratulations Bea!! \n📅 Date: Friday\, October 3rd \n⏰ Check-In: 6:00 PM \n🏐 Play Begins: 6:30 PM \n💵 Entry Fee: ONLY $20 \nFormat: SUPER SHUFFLE (Bea wants to play with as many people as possible) 6 Games GUARANTEED \nThis is more than just volleyball—it’s Bea’s night! We’re bringing the energy\, the friends\, and the beach vibes to send her into retirement the right way. \n👉 Spots are limited\, so lock yours in early! \nWill you be part of Bea’s “new knee era” debut? Don’t miss it! 🏐✨
URL:https://phoenixbeachvb.com/event/beas-retiring-from-work-tournament/
LOCATION:RT O’Sullivan’s\, 7919 E Thomas Rd #101\, Scottsdale\, AZ\, 85251\, United States
END:VEVENT
END:VCALENDAR