BEGIN:VCALENDAR
VERSION:2.0
PRODID:-//Phoenix Beach Volleyball - ECPv6.15.20//NONSGML v1.0//EN
CALSCALE:GREGORIAN
METHOD:PUBLISH
X-ORIGINAL-URL:https://phoenixbeachvb.com
X-WR-CALDESC:Events for Phoenix Beach Volleyball
REFRESH-INTERVAL;VALUE=DURATION:PT1H
X-Robots-Tag:noindex
X-PUBLISHED-TTL:PT1H
BEGIN:VTIMEZONE
TZID:America/Phoenix
BEGIN:STANDARD
TZOFFSETFROM:-0700
TZOFFSETTO:-0700
TZNAME:MST
DTSTART:20240101T000000
END:STANDARD
END:VTIMEZONE
BEGIN:VEVENT
DTSTART;TZID=America/Phoenix:20251010T180000
DTEND;TZID=America/Phoenix:20251010T233000
DTSTAMP:20260423T181159
CREATED:20251010T193352Z
LAST-MODIFIED:20251010T193352Z
UID:10001781-1760119200-1760139000@phoenixbeachvb.com
SUMMARY:It’s Raining But We Still Want VB FND
DESCRIPTION:☔  \n“It’s Raining But We Still Want VB” Friday Night Draw! \n ☔ \nCheck-in: 6:00 PM \nEntry Fee: $20 per player \nFormat: 5 games guaranteed — rain or shine! \nWe’re not letting a little weather stop the fun — grab your hoodie\, maybe your towel\, and get ready to bump\, set\, and splash! Whether the sand is wet or dry\, it’s all good vibes and competitive play at Phoenix Beach Volleyball. \n💰 $20 Entry \n🏐 5 Guaranteed Games \n🌦️ Rain or Shine – We Play! \n🎁 Prizes for the top finishers \nRegister now to lock in your spot — only limited spots available! \n📍 Location: Phoenix Beach Volleyball Courts at RTO Sullivans \n💸 Payment: $20 \nVenmo → @phoenixbeachvb \nZelle → 480-249-2242
URL:https://phoenixbeachvb.com/event/its-raining-but-we-still-want-vb-fnd/
LOCATION:RT O’Sullivan’s\, 7919 E Thomas Rd #101\, Scottsdale\, AZ\, 85251\, United States
END:VEVENT
END:VCALENDAR