BEGIN:VCALENDAR
VERSION:2.0
PRODID:-//Phoenix Beach Volleyball - ECPv6.15.20//NONSGML v1.0//EN
CALSCALE:GREGORIAN
METHOD:PUBLISH
X-WR-CALNAME:Phoenix Beach Volleyball
X-ORIGINAL-URL:https://phoenixbeachvb.com
X-WR-CALDESC:Events for Phoenix Beach Volleyball
REFRESH-INTERVAL;VALUE=DURATION:PT1H
X-Robots-Tag:noindex
X-PUBLISHED-TTL:PT1H
BEGIN:VTIMEZONE
TZID:America/Phoenix
BEGIN:STANDARD
TZOFFSETFROM:-0700
TZOFFSETTO:-0700
TZNAME:MST
DTSTART:20240101T000000
END:STANDARD
END:VTIMEZONE
BEGIN:VEVENT
DTSTART;TZID=America/Phoenix:20251017T180000
DTEND;TZID=America/Phoenix:20251017T180000
DTSTAMP:20260423T181446
CREATED:20251007T183755Z
LAST-MODIFIED:20251010T160458Z
UID:10001778-1760724000-1760724000@phoenixbeachvb.com
SUMMARY:Brett’s BIG 4-0 Birthday Bash
DESCRIPTION:Hey y’all\, your Phoenix Beach host is turning the big 4-0!! I want to ring it in with my nearest and dearest in the VB community! The format will be shuffle draw\, half mens net and half ladies net\, so everyone can get in on the fun!! \nFirst place prize will be the new Phoenix Beach SLUNKS\, second place will be a pair of Blenders shades with a full field! I hope you all can make it! \nCheck in is 6pm\, games begin at 630!! Pool play games are to 21\, win by 2\, cap 23. Bracket play games are to 21\, cap may be lifted based on time! \nTournament dues of $30 payable via the following: \nVenmo @phoenixbeachvb\nZelle 480-249-2242
URL:https://phoenixbeachvb.com/event/bretts-big-4-0-birthday-bash/
LOCATION:RT O’Sullivan’s\, 7919 E Thomas Rd #101\, Scottsdale\, AZ\, 85251\, United States
END:VEVENT
END:VCALENDAR