BEGIN:VCALENDAR
VERSION:2.0
PRODID:-//Phoenix Beach Volleyball - ECPv6.15.20//NONSGML v1.0//EN
CALSCALE:GREGORIAN
METHOD:PUBLISH
X-ORIGINAL-URL:https://phoenixbeachvb.com
X-WR-CALDESC:Events for Phoenix Beach Volleyball
REFRESH-INTERVAL;VALUE=DURATION:PT1H
X-Robots-Tag:noindex
X-PUBLISHED-TTL:PT1H
BEGIN:VTIMEZONE
TZID:America/Phoenix
BEGIN:STANDARD
TZOFFSETFROM:-0700
TZOFFSETTO:-0700
TZNAME:MST
DTSTART:20240101T000000
END:STANDARD
END:VTIMEZONE
BEGIN:VEVENT
DTSTART;TZID=America/Phoenix:20251018T093000
DTEND;TZID=America/Phoenix:20251018T160000
DTSTAMP:20260423T181157
CREATED:20250923T162009Z
LAST-MODIFIED:20251018T160238Z
UID:10001770-1760779800-1760803200@phoenixbeachvb.com
SUMMARY:Jessica’s Color Rush Birthday Bash
DESCRIPTION:🎉 Jessica’s Birthday Bash 🎉\nJessica is turning 43 and still playing with balls! 👀\nCOLOR RUSH EDITION\nCome out and celebrate Jessica with a high-energy beach day and a big splash of color! Each team will be assigned a color theme prior to the event! We will also provide some accessories of different colors as well for your team! \nDate: Saturday\, October 18th \nCheck-In: 9:30 AM \nEntry Fee: $25 paid via Venmo @phoenixbeachvb or Zelle/Apple pay 480-249-2242 or cash day of \nStart Time: 10:00 AM \nPlayers: Up to 32 players \nFormat: Random draw for teams. Every team plays 7 games\, one game against each team! Let’s see who will reign supreme! \nScoring: The team with the best overall record at the end is crowned the winner! Tie breaker is your head to head match up winner! *In the event of multiple ties\, we will use point differential* \nWe are also donating a percentage of the proceeds to Anthem Pets Animal Rescue for Jessica as well\, as this foundation and cause is very important to her! \nPrizes: \n\n🥇 1st Place – Stanley’s!!\n🥈 2nd Place – Custom Phoenix Beach Apparel\n🌟 MVP takes home an official AVP OPTX ball\n\nTheme: Teams will be assigned color themes before the event—show up decked out and rep your colors! \nHow to Join: Register via the event link (limited to 32). Please arrive on time for check-in so we can lock teams and roll right at 10 AM. Also\, please make sure your entry fee is paid prior to the event! \nLet’s pack the sand\, crank the vibes\, and make Jessica’s day unforgettable! 🎂🏐✨
URL:https://phoenixbeachvb.com/event/jessicas-color-rush-birthday-bash/
LOCATION:RT O’Sullivan’s\, 7919 E Thomas Rd #101\, Scottsdale\, AZ\, 85251\, United States
END:VEVENT
BEGIN:VEVENT
DTSTART;TZID=America/Phoenix:20251018T163000
DTEND;TZID=America/Phoenix:20251018T233000
DTSTAMP:20260423T181157
CREATED:20250924T213324Z
LAST-MODIFIED:20251018T201709Z
UID:10001773-1760805000-1760830200@phoenixbeachvb.com
SUMMARY:Eder and Alan’s Baywatch Lifeguards of the Beach
DESCRIPTION:Celebrating Eder & Alan \n🛟 Baywatch “Swing of the Beach” Birthday Tournament 🛟 \nSaturday\, October 18 • 4:30 PM \nEntry: $35 per person \nThe towers are up and the lifeguards are on duty—Eder & Alan are bringing Baywatch to Phoenix Beach for their birthday blowout! \n🏐 Format \n\nSign up with a coed partner\n6 games guaranteed\, with 6 different pairs.\nAll games played on both men’s net and ladies net (revco rules apply)\n\n🎉 Theme & Prizes \n\nCome in your best Baywatch fit (lifeguard\, beach babe\, slo-mo run encouraged 🏃‍♂️🌊)\nPrizes for 1st & 2nd place + Best Dressed Team\n\n📍 Check-In \n\n4:30 PM check-in\n5:00 PM first serve\n\n💸 Payment \n\nVenmo: @phoenixbeachvb\nZelle: 480-249-2242\n(Please pay prior to start. Cancellations within 24 hrs still owe entry fee—thanks for understanding!)\n\nGet ready for sunsets\, sand\, slow-motion saves\, and a birthday bash only Baywatch could deliver. 🛟🔥🏐
URL:https://phoenixbeachvb.com/event/eder-and-alans-baywatch-lifeguards-of-the-beach/
LOCATION:RT O’Sullivan’s\, 7919 E Thomas Rd #101\, Scottsdale\, AZ\, 85251\, United States
END:VEVENT
END:VCALENDAR