BEGIN:VCALENDAR
VERSION:2.0
PRODID:-//Phoenix Beach Volleyball - ECPv6.15.20//NONSGML v1.0//EN
CALSCALE:GREGORIAN
METHOD:PUBLISH
X-ORIGINAL-URL:https://phoenixbeachvb.com
X-WR-CALDESC:Events for Phoenix Beach Volleyball
REFRESH-INTERVAL;VALUE=DURATION:PT1H
X-Robots-Tag:noindex
X-PUBLISHED-TTL:PT1H
BEGIN:VTIMEZONE
TZID:America/Phoenix
BEGIN:STANDARD
TZOFFSETFROM:-0700
TZOFFSETTO:-0700
TZNAME:MST
DTSTART:20240101T000000
END:STANDARD
END:VTIMEZONE
BEGIN:VEVENT
DTSTART;TZID=America/Phoenix:20251019T113000
DTEND;TZID=America/Phoenix:20251019T190000
DTSTAMP:20260423T181158
CREATED:20251007T185400Z
LAST-MODIFIED:20251010T160643Z
UID:10001780-1760873400-1760900400@phoenixbeachvb.com
SUMMARY:Brett’s Still Celebrating Sunday Swingers Shuffle
DESCRIPTION:🎉 Brett’s Birthday Sunday Swingers Shuffle 🎉 \n  \nOur own Phoenix Beach host is turning the big 4-0 and wants to celebrate on the sand! \n📍 When: Sunday\, October 19th!! \n⏰ Check-in: 11:30 AM | Play starts: 12:00 PM \n💵 Entry Fee: $35 per person \nFormat: \n\nShuffle style – 4 games guaranteed with 4 different teams\nTop guy + top girl from pool play pair up for the bracket\n\nPrizes: \n🥇 1st Place – $140 cash plus Slunks or a prize of your choice \n🥈 2nd Place – $140 cash or prize of your choice (except the Slunks) \nCome out\, celebrate\, and swing into the 40s with us! 🏐🔥
URL:https://phoenixbeachvb.com/event/bretts-still-celebrating-sunday-swingers-shuffle/
LOCATION:RT O’Sullivan’s\, 7919 E Thomas Rd #101\, Scottsdale\, AZ\, 85251\, United States
END:VEVENT
END:VCALENDAR