BEGIN:VCALENDAR
VERSION:2.0
PRODID:-//Phoenix Beach Volleyball - ECPv6.15.20//NONSGML v1.0//EN
CALSCALE:GREGORIAN
METHOD:PUBLISH
X-WR-CALNAME:Phoenix Beach Volleyball
X-ORIGINAL-URL:https://phoenixbeachvb.com
X-WR-CALDESC:Events for Phoenix Beach Volleyball
REFRESH-INTERVAL;VALUE=DURATION:PT1H
X-Robots-Tag:noindex
X-PUBLISHED-TTL:PT1H
BEGIN:VTIMEZONE
TZID:America/Phoenix
BEGIN:STANDARD
TZOFFSETFROM:-0700
TZOFFSETTO:-0700
TZNAME:MST
DTSTART:20240101T000000
END:STANDARD
END:VTIMEZONE
BEGIN:VEVENT
DTSTART;TZID=America/Phoenix:20251026T103000
DTEND;TZID=America/Phoenix:20251026T170000
DTSTAMP:20260423T180943
CREATED:20220916T042826Z
LAST-MODIFIED:20251023T194643Z
UID:10001789-1761474600-1761498000@phoenixbeachvb.com
SUMMARY:Fall Festival Coed Doubles
DESCRIPTION:The weather is cooling off and it’s a perfect time to do some daytime doubles\, and one of the more popular formats is some COED!! Let’s do it! Find your partner and sign up! \nCheck in is 1030am with play beginning at 11. Each team will get 3 pool play games followed by double elimination bracket play. All games played to 21\, pool play capped at 23\, bracket play has no cap. \nCost is $25 per player! Payable via the following payment services: \nCash\nVenmo – @phoenixbeachvb\nZelle – 480-249-2242 \nSign up quickly!
URL:https://phoenixbeachvb.com/event/mens-and-ladies-team-doubles/2025-10-26/
LOCATION:RT O’Sullivan’s\, 7919 E Thomas Rd #101\, Scottsdale\, AZ\, 85251\, United States
END:VEVENT
END:VCALENDAR