BEGIN:VCALENDAR
VERSION:2.0
PRODID:-//Phoenix Beach Volleyball - ECPv6.15.20//NONSGML v1.0//EN
CALSCALE:GREGORIAN
METHOD:PUBLISH
X-ORIGINAL-URL:https://phoenixbeachvb.com
X-WR-CALDESC:Events for Phoenix Beach Volleyball
REFRESH-INTERVAL;VALUE=DURATION:PT1H
X-Robots-Tag:noindex
X-PUBLISHED-TTL:PT1H
BEGIN:VTIMEZONE
TZID:America/Phoenix
BEGIN:STANDARD
TZOFFSETFROM:-0700
TZOFFSETTO:-0700
TZNAME:MST
DTSTART:20240101T000000
END:STANDARD
END:VTIMEZONE
BEGIN:VEVENT
DTSTART;TZID=America/Phoenix:20251101T103000
DTEND;TZID=America/Phoenix:20251101T170000
DTSTAMP:20260423T164515
CREATED:20251006T051143Z
LAST-MODIFIED:20251031T175454Z
UID:10001777-1761993000-1762016400@phoenixbeachvb.com
SUMMARY:“Dads” 70th Birthday Bash
DESCRIPTION:🎉 Tom Glenn\, AKA Dad\, is celebrating his 70th Birthday Volleyball 🎉 \nWe’re celebrating a true legend turning 70 the best way we know how—on the sand! Join us for a special birthday tournament honoring Tom Glenn. \n📅 Date: Saturday\, November 1st \n⏰ Check-In: 10:30 AM | Play Begins: 11:00 AM \n📍 Location: RTO Sullivans in Scottsdale \nFormat \n\nBirthday Draw-Style Tournament (you can sign up a team if you play on the Wednesday league)\nGuaranteed plenty of games for every player\nCompetitive but social play for all skill levels\nPrizes for top finishers & special birthday surprises 🎁\nSpecial rules for our birthday guest of honor\n\nEntry Fee \n💲 $25 per player \n✔ Includes 2 drink coupons with every entry 🥂🍻 \n(Pay via Venmo/Zelle – @phoenixbeachvb or 480-249-2242 \nExtras \n\nBirthday cake & more drinks after play 🍰\nCome ready to celebrate 70 amazing years of Tom Glenn!\nIf you play Wednesdays and want to sign up a team\, put “team of _” next to your name when you sign up! No need to have everyone sign up!\n\n👉 Sign up now! Spots are reserved for Toms friends and family as well as his Wednesday night league participants!! After that we will go to the wait list.
URL:https://phoenixbeachvb.com/event/tom-glenns-70th-birthday-bash/
LOCATION:RT O’Sullivan’s\, 7919 E Thomas Rd #101\, Scottsdale\, AZ\, 85251\, United States
END:VEVENT
END:VCALENDAR