BEGIN:VCALENDAR
VERSION:2.0
PRODID:-//Phoenix Beach Volleyball - ECPv6.15.20//NONSGML v1.0//EN
CALSCALE:GREGORIAN
METHOD:PUBLISH
X-ORIGINAL-URL:https://phoenixbeachvb.com
X-WR-CALDESC:Events for Phoenix Beach Volleyball
REFRESH-INTERVAL;VALUE=DURATION:PT1H
X-Robots-Tag:noindex
X-PUBLISHED-TTL:PT1H
BEGIN:VTIMEZONE
TZID:America/Phoenix
BEGIN:STANDARD
TZOFFSETFROM:-0700
TZOFFSETTO:-0700
TZNAME:MST
DTSTART:20240101T000000
END:STANDARD
END:VTIMEZONE
BEGIN:VEVENT
DTSTART;TZID=America/Phoenix:20251102T100000
DTEND;TZID=America/Phoenix:20251102T170000
DTSTAMP:20260423T164422
CREATED:20241031T003708Z
LAST-MODIFIED:20251023T165023Z
UID:10001788-1762077600-1762102800@phoenixbeachvb.com
SUMMARY:Sunday “BFF Swingers” Tournament
DESCRIPTION:BFF Swingers\nThis week we are hosting a Sunday BFF Swingers!! Sign up with your same sex partner by clicking the register button in the event! We are taking up to 16 pairs\, must be equal pairs in both men’s and ladies division. \nCheck in for this event is 10AM\, play beginning at 1030AM! Each pair will get 4 pool play games followed by double elimination bracket play. Pool play games will be to 21\, capped at 23. Bracket play will have the cap lifted! \n*games are subject to change based on time \nEntry fee is $35 per player payable the following options: \nVenmo (phoenixbeachvb)\nZelle (480-249-2242) \nPrizes for first and second place with a full field! OPTX balls to the winners and some sweet hoodies or tees swag to our finalists! \nPlease ensure you are paid in full prior to tournament starting. Thank you. If you drop inside of 24 hours of the start of the tournament\, you will be expected to cover your entry fee. Thank you for understanding.
URL:https://phoenixbeachvb.com/event/sunday-traditional-swingers-tournament-2022-11-27-2/2025-11-02/
LOCATION:RT O’Sullivan’s\, 7919 E Thomas Rd #101\, Scottsdale\, AZ\, 85251\, United States
END:VEVENT
END:VCALENDAR