BEGIN:VCALENDAR
VERSION:2.0
PRODID:-//Phoenix Beach Volleyball - ECPv6.15.20//NONSGML v1.0//EN
CALSCALE:GREGORIAN
METHOD:PUBLISH
X-WR-CALNAME:Phoenix Beach Volleyball
X-ORIGINAL-URL:https://phoenixbeachvb.com
X-WR-CALDESC:Events for Phoenix Beach Volleyball
REFRESH-INTERVAL;VALUE=DURATION:PT1H
X-Robots-Tag:noindex
X-PUBLISHED-TTL:PT1H
BEGIN:VTIMEZONE
TZID:America/Phoenix
BEGIN:STANDARD
TZOFFSETFROM:-0700
TZOFFSETTO:-0700
TZNAME:MST
DTSTART:20240101T000000
END:STANDARD
END:VTIMEZONE
BEGIN:VEVENT
DTSTART;TZID=America/Phoenix:20251115T100000
DTEND;TZID=America/Phoenix:20251115T190000
DTSTAMP:20260423T164410
CREATED:20251023T153813Z
LAST-MODIFIED:20251115T152603Z
UID:10001782-1763200800-1763233200@phoenixbeachvb.com
SUMMARY:🦅 Go Birds! Jayce’s Birthday Shuffle! 🦅
DESCRIPTION:🎉 Jayce’s Birthday His & Hers Shuffle 🎉 \nSaturday\, November 15 \nCheck-in: 10:00 AM • Play Begins: 10:30 AM \nCap: 40 Players (or equal number guys and gals) \nEntry Fee: $40 ($5 of your entry will go to Victor Holman for his photography time! His IG is @Vics_gr8_shotz!) \nHe may be relatively new to the Phoenix Beach community (a couple of years now)\, but Jayce has wasted no time becoming a crowd favorite — both to cheer for and heckle in equal measure. 😎 Come celebrate one of the good ones with a day full of fun\, chaos\, and classic PBV shuffle energy! \nFormat: \n\nHis & Hers Shuffle Draw — rotate teammates every round\nHalf of your games on the men’s net\, half on the ladies’ net with reverse coed rules\, maybe a few other twists!\nNew partners\, fresh matchups\, and endless birthday banter\n\nDetails: \n\n40-player cap (so don’t sleep on sign-ups!) All spots are reserved for Jayce’s select friends first\, then opened up to everyone else if spots are available.\nCheck-in 10AM\, play at 10:30 sharp\nExpect laughs\, big plays\, and plenty of heckling\n\nJoin us in celebrating Jayce the PBV way — good vibes\, good competition\, and great people. 🏐🔥
URL:https://phoenixbeachvb.com/event/%f0%9f%a6%85-go-birds-jayces-birthday-shuffle-%f0%9f%a6%85/
LOCATION:RT O’Sullivan’s\, 7919 E Thomas Rd #101\, Scottsdale\, AZ\, 85251\, United States
END:VEVENT
END:VCALENDAR