BEGIN:VCALENDAR
VERSION:2.0
PRODID:-//Phoenix Beach Volleyball - ECPv6.15.20//NONSGML v1.0//EN
CALSCALE:GREGORIAN
METHOD:PUBLISH
X-ORIGINAL-URL:https://phoenixbeachvb.com
X-WR-CALDESC:Events for Phoenix Beach Volleyball
REFRESH-INTERVAL;VALUE=DURATION:PT1H
X-Robots-Tag:noindex
X-PUBLISHED-TTL:PT1H
BEGIN:VTIMEZONE
TZID:America/Phoenix
BEGIN:STANDARD
TZOFFSETFROM:-0700
TZOFFSETTO:-0700
TZNAME:MST
DTSTART:20240101T000000
END:STANDARD
END:VTIMEZONE
BEGIN:VEVENT
DTSTART;TZID=America/Phoenix:20251116T100000
DTEND;TZID=America/Phoenix:20251116T170000
DTSTAMP:20260423T164513
CREATED:20241014T210529Z
LAST-MODIFIED:20251027T183710Z
UID:10001791-1763287200-1763312400@phoenixbeachvb.com
SUMMARY:Flanagan’s 3rd Annual Movember Fundraiser Draw
DESCRIPTION:Flanagans Movember Draw\nHey everyone! \nJoin us on Sunday\, November 16th for our Third Annual Movember Draw\, supporting our good friend Steven Flanagan and his Movember fundraising campaign! \nWhat is Movember? \nMovember is a global movement encouraging the growing of moustaches each November to raise awareness for men’s health issues — including prostate cancer\, testicular cancer\, and men’s mental health and suicide prevention. The word Movember combines “mo” (Australian slang for moustache) and “November.” \nSteven has been championing this cause for 10 years\, and this season we’re helping him reach his $2\,000 goal! \nTournament Details: \n\n💲 Entry: $25 per player\n🕥 Check-In: 10:00 AM\n🏐 Play Begins: 10:30 AM sharp\n👥 Cap: 40 players max\n🌀 Format: 4 pool play games per player\, followed by double elimination bracket play\n\nExtras & Prizes: \n\n🎟️ 50/50 Raffle: $5 per ticket or 5 for $20\n🎯 Serving Contest: Test your aim and power for extra prizes!\n🥇 First Place: Choice of an OPTX Ball\, AVP Backpack\, or Blenders Sunglasses\n🥈 Second Place: Custom Phoenix Beach T-Shirt\n\nLet’s rally the Phoenix Beach family to support a great cause\, play some awesome volleyball\, and celebrate another year of moustache magic! \n➡️ Venmo $25 to @steven-flanagan upon registration.
URL:https://phoenixbeachvb.com/event/movember-fundraiser-draw/2025-11-16/
LOCATION:RT O’Sullivan’s\, 7919 E Thomas Rd #101\, Scottsdale\, AZ\, 85251\, United States
END:VEVENT
END:VCALENDAR