BEGIN:VCALENDAR
VERSION:2.0
PRODID:-//Phoenix Beach Volleyball - ECPv6.15.20//NONSGML v1.0//EN
CALSCALE:GREGORIAN
METHOD:PUBLISH
X-ORIGINAL-URL:https://phoenixbeachvb.com
X-WR-CALDESC:Events for Phoenix Beach Volleyball
REFRESH-INTERVAL;VALUE=DURATION:PT1H
X-Robots-Tag:noindex
X-PUBLISHED-TTL:PT1H
BEGIN:VTIMEZONE
TZID:America/Phoenix
BEGIN:STANDARD
TZOFFSETFROM:-0700
TZOFFSETTO:-0700
TZNAME:MST
DTSTART:20240101T000000
END:STANDARD
END:VTIMEZONE
BEGIN:VEVENT
DTSTART;TZID=America/Phoenix:20251121T180000
DTEND;TZID=America/Phoenix:20251121T180000
DTSTAMP:20260423T164421
CREATED:20251029T060748Z
LAST-MODIFIED:20251029T060748Z
UID:10001792-1763748000-1763748000@phoenixbeachvb.com
SUMMARY:Co Birthday Draw for Mariana and Justin!!
DESCRIPTION:🎉 Co-Birthday Friday Night Draw for Mariana & Justin! 🎉 \nFriday\, November 21st \nWe’re celebrating Mariana and Justin the only way Phoenix Beach knows how — with a coed draw under the lights! \n🏐 Format: Coed Draw – random teams each round! \n👥 Players: 32 total \n🎟️ Entry Fee: $25 per player \n🕕 Check-in: 6:00 PM \n🏁 Play begins: 6:30 PM \nSpots are reserved for Mariana & Justin’s guest list first\, then we’ll open it up to everyone else — so make sure to grab your spot fast once registration opens! \nLet’s pack the sand\, blast the tunes\, and celebrate two of our favorites with a night full of sets\, serves\, and smiles!
URL:https://phoenixbeachvb.com/event/co-birthday-draw-for-mariana-and-justin/
LOCATION:RT O’Sullivan’s\, 7919 E Thomas Rd #101\, Scottsdale\, AZ\, 85251\, United States
END:VEVENT
END:VCALENDAR