BEGIN:VCALENDAR
VERSION:2.0
PRODID:-//Phoenix Beach Volleyball - ECPv6.15.20//NONSGML v1.0//EN
CALSCALE:GREGORIAN
METHOD:PUBLISH
X-ORIGINAL-URL:https://phoenixbeachvb.com
X-WR-CALDESC:Events for Phoenix Beach Volleyball
REFRESH-INTERVAL;VALUE=DURATION:PT1H
X-Robots-Tag:noindex
X-PUBLISHED-TTL:PT1H
BEGIN:VTIMEZONE
TZID:America/Phoenix
BEGIN:STANDARD
TZOFFSETFROM:-0700
TZOFFSETTO:-0700
TZNAME:MST
DTSTART:20240101T000000
END:STANDARD
END:VTIMEZONE
BEGIN:VEVENT
DTSTART;TZID=America/Phoenix:20251129T103000
DTEND;TZID=America/Phoenix:20251129T180000
DTSTAMP:20260423T164420
CREATED:20251122T000512Z
LAST-MODIFIED:20251122T000512Z
UID:10001798-1764412200-1764439200@phoenixbeachvb.com
SUMMARY:Da Bears 🐻 Matt Picks Bday Saturday Draw
DESCRIPTION:Hey y’all\, our main guy\, the one who takes care of us each and every weekend wants to celebrate with y’all by…. Working!! Who knew someone wants to work their birthday weekend!! Anyways\, we are going to have a dual event for the weekend’s festivities! Coed Saturday Draw and Sunday Traditional Swingers! $25/per player but if you sign up for both\, it’s only $40 for both Saturday and Sunday \nSaturday Check in 1030AM\nSunday Check in 1030AM
URL:https://phoenixbeachvb.com/event/da-bears-%f0%9f%90%bb-matt-picks-bday-saturday-draw/
LOCATION:RT O’Sullivan’s\, 7919 E Thomas Rd #101\, Scottsdale\, AZ\, 85251\, United States
END:VEVENT
END:VCALENDAR