BEGIN:VCALENDAR
VERSION:2.0
PRODID:-//Phoenix Beach Volleyball - ECPv6.15.20//NONSGML v1.0//EN
CALSCALE:GREGORIAN
METHOD:PUBLISH
X-WR-CALNAME:Phoenix Beach Volleyball
X-ORIGINAL-URL:https://phoenixbeachvb.com
X-WR-CALDESC:Events for Phoenix Beach Volleyball
REFRESH-INTERVAL;VALUE=DURATION:PT1H
X-Robots-Tag:noindex
X-PUBLISHED-TTL:PT1H
BEGIN:VTIMEZONE
TZID:America/Phoenix
BEGIN:STANDARD
TZOFFSETFROM:-0700
TZOFFSETTO:-0700
TZNAME:MST
DTSTART:20240101T000000
END:STANDARD
END:VTIMEZONE
BEGIN:VEVENT
DTSTART;TZID=America/Phoenix:20251205T180000
DTEND;TZID=America/Phoenix:20251205T180000
DTSTAMP:20260423T152426
CREATED:20241203T180255Z
LAST-MODIFIED:20251201T160858Z
UID:10001800-1764957600-1764957600@phoenixbeachvb.com
SUMMARY:The one and only Parker Forrester Birthday Draw
DESCRIPTION:**Parkers Birthday FND Bash**\n**Date:** December 5th\n**Time:** Check in 6PM\, Party starts at 630PM\n**Format:** COED 4s \nGet ready for a fantastic day of volleyball\, fun\, and celebration! There might be some fun ACE rules thrown in as well! \n**Don’t miss out!** Mark your calendars and come celebrate Parker with us! We can’t wait to see you on the court! Everyone gets 3 games of pool play followed by a double elimination bracket! \n$25 per person payable via Venmo (@phoenixbeachvb) or Zelle (480-249-2242) \nPrizes for 1st and 2nd place!
URL:https://phoenixbeachvb.com/event/parkers-birthday-coed-draw-2/2025-12-05/
LOCATION:RT O’Sullivan’s\, 7919 E Thomas Rd #101\, Scottsdale\, AZ\, 85251\, United States
END:VEVENT
END:VCALENDAR