BEGIN:VCALENDAR
VERSION:2.0
PRODID:-//Phoenix Beach Volleyball - ECPv6.15.20//NONSGML v1.0//EN
CALSCALE:GREGORIAN
METHOD:PUBLISH
X-ORIGINAL-URL:https://phoenixbeachvb.com
X-WR-CALDESC:Events for Phoenix Beach Volleyball
REFRESH-INTERVAL;VALUE=DURATION:PT1H
X-Robots-Tag:noindex
X-PUBLISHED-TTL:PT1H
BEGIN:VTIMEZONE
TZID:America/Phoenix
BEGIN:STANDARD
TZOFFSETFROM:-0700
TZOFFSETTO:-0700
TZNAME:MST
DTSTART:20240101T000000
END:STANDARD
END:VTIMEZONE
BEGIN:VEVENT
DTSTART;TZID=America/Phoenix:20251207T100000
DTEND;TZID=America/Phoenix:20251207T170000
DTSTAMP:20260423T151123
CREATED:20241129T063152Z
LAST-MODIFIED:20251023T164030Z
UID:10001787-1765101600-1765126800@phoenixbeachvb.com
SUMMARY:Ricky’s Leg Slapping Birthday Shuffle
DESCRIPTION:Slick Ricky’s Birthday Coed 4s Shuffle!\n**Date:** December 7th\n**Time:** Check in 1030AM\, Party starts at 11AM\n**Format:** COED 4s Random shuffle \nYall know what time it is!! Get ready for an awesome day of volleyball\, Ricky Style! Leg slapping serves\, long rallies\, and celebrating Ricky’s big day! \n**Don’t miss out!** Mark your calendars and come celebrate with Ricky on the court! We can’t wait to see you there! \nAll players will get 3 pool play games followed by double elimination bracket. Each pool play game will be with a different team! Teams for bracket will be based on your pool play record. \n$35 per person payable via Venmo (@phoenixbeachvb) or Zelle (480-249-2242) \nBomb Prizes as always! \nFirst place will receive their choice of an AVP Backpack or an OPTX ball or the Slunks if you haven’t won them yet! Second will receive a custom L/S District hoodie!
URL:https://phoenixbeachvb.com/event/rickys-birthday-shuffle/2025-12-07/
LOCATION:RT O’Sullivan’s\, 7919 E Thomas Rd #101\, Scottsdale\, AZ\, 85251\, United States
END:VEVENT
END:VCALENDAR