BEGIN:VCALENDAR
VERSION:2.0
PRODID:-//Phoenix Beach Volleyball - ECPv6.15.20//NONSGML v1.0//EN
CALSCALE:GREGORIAN
METHOD:PUBLISH
X-WR-CALNAME:Phoenix Beach Volleyball
X-ORIGINAL-URL:https://phoenixbeachvb.com
X-WR-CALDESC:Events for Phoenix Beach Volleyball
REFRESH-INTERVAL;VALUE=DURATION:PT1H
X-Robots-Tag:noindex
X-PUBLISHED-TTL:PT1H
BEGIN:VTIMEZONE
TZID:America/Phoenix
BEGIN:STANDARD
TZOFFSETFROM:-0700
TZOFFSETTO:-0700
TZNAME:MST
DTSTART:20240101T000000
END:STANDARD
END:VTIMEZONE
BEGIN:VEVENT
DTSTART;TZID=America/Phoenix:20251213T103000
DTEND;TZID=America/Phoenix:20251213T170000
DTSTAMP:20260423T151812
CREATED:20241204T165112Z
LAST-MODIFIED:20251026T215849Z
UID:10001613-1765621800-1765645200@phoenixbeachvb.com
SUMMARY:Sisiiii’s Birthday Swingers Shuffle
DESCRIPTION:It’s Sisiiiiii’s birthday! Let’s gooooo! December 13th\, she wants to celebrate with all of you\, by playing some Shuffle Swingers volleyball! Everyone will sign up individually\, and play 3 rounds of same sex 4s because that’s what Sisi wants! After pool play\, Sierra will pick her team to play bracket with\, and everyone else will get paired up with their coed partner based on pool results! Win\, you keep your pairing\, lose\, you get a new pair at random! \nSisi will also get her choice of pairings to play with throughout pool play! \nCheck in is at 1030\, play begins at 11. 5 full games to 21 are guaranteed!! \nThe cost is $35 per player\, with prizes for first and second place based on tournament sign ups. Tournament fees are payable via the following options:\nVenmo (phoenixbeachvb)\nZelle (480-249-2242)\nCash \nPlease ensure you are paid in full prior to tournament starting. Thank you. \n*Just a reminder\, no outside food or drink is allowed in the volleyball court/patio area. RTOs does sell Powerade\, as well as having an amazing food and drink menu. Please support the bar by purchasing your food and drink from them! Thank you*
URL:https://phoenixbeachvb.com/event/sierra-birthday-sunday-swingers-2-2/
LOCATION:RT O’Sullivan’s\, 7919 E Thomas Rd #101\, Scottsdale\, AZ\, 85251\, United States
END:VEVENT
END:VCALENDAR