BEGIN:VCALENDAR
VERSION:2.0
PRODID:-//Phoenix Beach Volleyball - ECPv6.15.20//NONSGML v1.0//EN
CALSCALE:GREGORIAN
METHOD:PUBLISH
X-ORIGINAL-URL:https://phoenixbeachvb.com
X-WR-CALDESC:Events for Phoenix Beach Volleyball
REFRESH-INTERVAL;VALUE=DURATION:PT1H
X-Robots-Tag:noindex
X-PUBLISHED-TTL:PT1H
BEGIN:VTIMEZONE
TZID:America/Phoenix
BEGIN:STANDARD
TZOFFSETFROM:-0700
TZOFFSETTO:-0700
TZNAME:MST
DTSTART:20240101T000000
END:STANDARD
END:VTIMEZONE
BEGIN:VEVENT
DTSTART;TZID=America/Phoenix:20251219T180000
DTEND;TZID=America/Phoenix:20251219T180000
DTSTAMP:20260423T151954
CREATED:20251216T201421Z
LAST-MODIFIED:20251217T152348Z
UID:10001617-1766167200-1766167200@phoenixbeachvb.com
SUMMARY:“Ugly Sweater” Friday Night Draw
DESCRIPTION:Our third day of Phoenix Beach Christmas giveaways is an Ugly Sweater themed FND\, and it’s FREE for everyone who signs up!! Our way to thank you for supporting us this year and years past! \n  \nGet your ugliest sweater and let’s play some ball! We can only take up to 32 awesome players for this event so sign up quickly! Ugliest sweaters also gets a free beverage of choice on Phoenix Beach! \nCheck in (player arrival) starts at 6PM\, and play begins at 630PM. This event is for all players C level and up! Any requests to play together will be accommodated\, as long as it’s not an unfairly strong team. \nThe cost is $0 per player!! \nAll players/teams will get 3 pool play games followed by a double elimination bracket play tournament! That’s 5 games to 21! Pool play games are capped at 23\, bracket play games are no cap* \nWinners also get a free Phoenix Beach ugly sweater! \n 
URL:https://phoenixbeachvb.com/event/friday-night-draw-2021-08-13-2021-08-27-2021-10-01-2021-12-10-2022-09-16-2022-11-11-2022-12-16-2/
LOCATION:RT O’Sullivan’s\, 7919 E Thomas Rd #101\, Scottsdale\, AZ\, 85251\, United States
END:VEVENT
END:VCALENDAR