BEGIN:VCALENDAR
VERSION:2.0
PRODID:-//Phoenix Beach Volleyball - ECPv6.15.20//NONSGML v1.0//EN
CALSCALE:GREGORIAN
METHOD:PUBLISH
X-WR-CALNAME:Phoenix Beach Volleyball
X-ORIGINAL-URL:https://phoenixbeachvb.com
X-WR-CALDESC:Events for Phoenix Beach Volleyball
REFRESH-INTERVAL;VALUE=DURATION:PT1H
X-Robots-Tag:noindex
X-PUBLISHED-TTL:PT1H
BEGIN:VTIMEZONE
TZID:America/Phoenix
BEGIN:STANDARD
TZOFFSETFROM:-0700
TZOFFSETTO:-0700
TZNAME:MST
DTSTART:20240101T000000
END:STANDARD
END:VTIMEZONE
BEGIN:VEVENT
DTSTART;TZID=America/Phoenix:20251221T100000
DTEND;TZID=America/Phoenix:20251221T170000
DTSTAMP:20260423T150857
CREATED:20251204T200949Z
LAST-MODIFIED:20251204T201901Z
UID:10001801-1766311200-1766336400@phoenixbeachvb.com
SUMMARY:Tara Quays Birthday Shuffle
DESCRIPTION:🎉  \nTara Quay’s Birthday Shuffle Draw! \nHis & Hers Nets • Sunday\, December 21st \nCheck-In 10AM • Play Starts at 10:30 AM \n16 Guys • 16 Girls • 32-Player Max \nIt is the winter equinox\, but how do you take advantage of the shortest day of the year? By celebrating Tara Quay! The best way we know how — with a Birthday Shuffle Draw under the Arizona sun! It might be the least amount of sun of the year\, but we are going to take full advantage of it! Come ready to mix\, match\, compete\, and laugh as we run a his-and-hers net format\, shuffling partners each round to keep things fun and fresh. \nEvent Format \n\n🎂 32-player shuffle draw: 16 guys + 16 girls\n🏐 His & Hers Nets: half your games on the men’s height net\, half on women’s (reverse coed rules where needed)\n🔄 New teammates every round\n🕥 Check-in at 10:30 AM\n🕚 First serve at 11:00 AM\n🎁 Prizes for first and second place (and maybe a birthday surprise or two 👀)\n\nEntry Fee \n💵 $35 per player (paid at check-in unless otherwise arranged) \nRegistration \nSpots will go fast — only 16 guys and 16 girls! \nLet Tara’s crew sign up first\, then we’ll open remaining spots to the full PBV community.
URL:https://phoenixbeachvb.com/event/tara-quays-birthday-shuffle/
LOCATION:RT O’Sullivan’s\, 7919 E Thomas Rd #101\, Scottsdale\, AZ\, 85251\, United States
END:VEVENT
END:VCALENDAR