BEGIN:VCALENDAR
VERSION:2.0
PRODID:-//Phoenix Beach Volleyball - ECPv6.15.20//NONSGML v1.0//EN
CALSCALE:GREGORIAN
METHOD:PUBLISH
X-ORIGINAL-URL:https://phoenixbeachvb.com
X-WR-CALDESC:Events for Phoenix Beach Volleyball
REFRESH-INTERVAL;VALUE=DURATION:PT1H
X-Robots-Tag:noindex
X-PUBLISHED-TTL:PT1H
BEGIN:VTIMEZONE
TZID:America/Phoenix
BEGIN:STANDARD
TZOFFSETFROM:-0700
TZOFFSETTO:-0700
TZNAME:MST
DTSTART:20250101T000000
END:STANDARD
END:VTIMEZONE
BEGIN:VEVENT
DTSTART;TZID=America/Phoenix:20260130T180000
DTEND;TZID=America/Phoenix:20260130T180000
DTSTAMP:20260423T122812
CREATED:20250907T174626Z
LAST-MODIFIED:20260126T194642Z
UID:10001810-1769796000-1769796000@phoenixbeachvb.com
SUMMARY:Best of Phoenix Beach Ultimate Shuffle Draw
DESCRIPTION:🏐 Ultimate Shuffle Champions Draw 🏐\nWelcome to the Phoenix Beach Ultimate Shuffle Champions Draw – the ultimate test of consistency\, versatility\, and endurance! Check in 6PM\, Play at 630! \n🎲 Format \n\n6 Guaranteed Games: Every player will compete in 6 different games\, each time with a new team.\nTop 16 Advance: After 6 rounds\, the top 16 players based on results will move on.\n\n🔀 Semi Final Phase \n\n3 More Shuffle Games: The final 16 will shuffle once again\, playing 3 more games to determine who rises to the top.\n\n🏆 Championship \n\nFinal 8 Players: The best 8 competitors will move on to the ultimate showdown.\n2 Teams – 1 Champion: The final 8 will split into two teams of 4 and battle it out in a best 2-of-3 series to crown the Ultimate Shuffle Champions.\n\n📌 Notes \n\nAdvancement format and tiebreakers are at the discretion of the Tournament Director.\nExpect a fast-paced\, high-energy event where every game matters.\nBring your A-game – consistency is key\, but the shuffle may surprise you!\n\n$25 per player payable via Venmo @phoenixbeachvb or Zelle 480-249-2242\, or always cash day of.
URL:https://phoenixbeachvb.com/event/best-of-phoenix-beach-ultimate-shuffle-draw/2026-01-30/
LOCATION:RT O’Sullivan’s\, 7919 E Thomas Rd #101\, Scottsdale\, AZ\, 85251\, United States
END:VEVENT
END:VCALENDAR