BEGIN:VCALENDAR
VERSION:2.0
PRODID:-//Phoenix Beach Volleyball - ECPv6.15.20//NONSGML v1.0//EN
CALSCALE:GREGORIAN
METHOD:PUBLISH
X-WR-CALNAME:Phoenix Beach Volleyball
X-ORIGINAL-URL:https://phoenixbeachvb.com
X-WR-CALDESC:Events for Phoenix Beach Volleyball
REFRESH-INTERVAL;VALUE=DURATION:PT1H
X-Robots-Tag:noindex
X-PUBLISHED-TTL:PT1H
BEGIN:VTIMEZONE
TZID:America/Phoenix
BEGIN:STANDARD
TZOFFSETFROM:-0700
TZOFFSETTO:-0700
TZNAME:MST
DTSTART:20250101T000000
END:STANDARD
END:VTIMEZONE
BEGIN:VEVENT
DTSTART;TZID=America/Phoenix:20260207T100000
DTEND;TZID=America/Phoenix:20260207T170000
DTSTAMP:20260423T122646
CREATED:20250118T153447Z
LAST-MODIFIED:20260207T171412Z
UID:10001811-1770458400-1770483600@phoenixbeachvb.com
SUMMARY:“Super Bowl” Super Saturday Swingers
DESCRIPTION:Super Bowl Super Swingers\nIt’s Super Bowl weekend!! Let’s play some ball and see who the top pair is at Phoenix Beach! Sign up as a coed pair with your favorite teammate and battle against 15 other pairs to see who comes out with the “Lombardi Trophy”! All pairs will play at least 6 games with and against different teams! Every game will be half men’s/ladies net! After the first two rounds (3 games each round)\, the top 8 pairs will move on\, bottom 8 are eliminated! \nHere are the other important deets!! \n\nCost is $35 per player payable via Cash\, Venmo @phoenixbeachvb or Zelle 490-249-2242\nCheck in at 10AM\nPool Play begins at 1030AM\nPrizes with a full field will be AVP OPTX AND backpack for the 1st place pair. Custom Phoenix Beach Swag for 2nd place.\n\nIf you drop within 24 hours of the start of the tournament\, you are responsible to pay for your entry fees. Thank you.
URL:https://phoenixbeachvb.com/event/saturday-swingers-super-bowl-shuffle-edition/2026-02-07/
LOCATION:RT O’Sullivan’s\, 7919 E Thomas Rd #101\, Scottsdale\, AZ\, 85251\, United States
END:VEVENT
END:VCALENDAR