BEGIN:VCALENDAR
VERSION:2.0
PRODID:-//Phoenix Beach Volleyball - ECPv6.15.20//NONSGML v1.0//EN
CALSCALE:GREGORIAN
METHOD:PUBLISH
X-WR-CALNAME:Phoenix Beach Volleyball
X-ORIGINAL-URL:https://phoenixbeachvb.com
X-WR-CALDESC:Events for Phoenix Beach Volleyball
REFRESH-INTERVAL;VALUE=DURATION:PT1H
X-Robots-Tag:noindex
X-PUBLISHED-TTL:PT1H
BEGIN:VTIMEZONE
TZID:America/Phoenix
BEGIN:STANDARD
TZOFFSETFROM:-0700
TZOFFSETTO:-0700
TZNAME:MST
DTSTART:20250101T000000
END:STANDARD
END:VTIMEZONE
BEGIN:VEVENT
DTSTART;TZID=America/Phoenix:20260213T180000
DTEND;TZID=America/Phoenix:20260213T180000
DTSTAMP:20260423T122645
CREATED:20260209T161959Z
LAST-MODIFIED:20260213T204749Z
UID:10001818-1771005600-1771005600@phoenixbeachvb.com
SUMMARY:Find Your Valentine Swingers* Shuffle FND
DESCRIPTION:Tired of dating apps? Find your Valentine on the sand at Phoenix Beach! We will be hosting a shuffle Friday Night Swingers Draw this weekend in celebration of Valentines Day! \nThink of it as the volleyball version of speed dating. Each round of pool play will be with different players\, so you will have quite a few opportunities to create some sparks and find your true love! To help\, Phoenix Beach will provide a champagne toast to get you in the mood! \n(If you have a valentine already\, you can just play for the enjoyment of volleyball! Also sign up for our Sunday swingers tournament with your valentine!) \n\nCheck in 6PM\nPool Play begins at 630\nCapped at 32 players\, and we need equal numbers for guys and girls.\nAll players get 3 games of Pool play before you get paired up with an opposite sex partner for bracket! If you win\, you keep your team\, lose and get a whole new team for the remainder of the tournament.\nDouble elimination swingers bracket will begin at approximately 930PM.\nCost is $35 per player\, payable via Venmo @phoenixbeachvb or Zelle 480-249-2242\, or cash day of!\n\nYour date for bracket play will be based on your results from pool play! \nThank you for supporting Phoenix Beach! \nPS: no outside food and drinks are allowed at RTOs!  They do have extensive food and drink options! \nIf you drop within 24 hours of the start of the tournament\, you will be expected to cover your entry fee. Thank you for understanding. \n*Phoenix Beach may change the format if we don’t have an even number of guys and girls*
URL:https://phoenixbeachvb.com/event/find-your-valentine-swingers-shuffle-fnd/
LOCATION:RT O’Sullivan’s\, 7919 E Thomas Rd #101\, Scottsdale\, AZ\, 85251\, United States
END:VEVENT
END:VCALENDAR