BEGIN:VCALENDAR
VERSION:2.0
PRODID:-//Phoenix Beach Volleyball - ECPv6.15.20//NONSGML v1.0//EN
CALSCALE:GREGORIAN
METHOD:PUBLISH
X-WR-CALNAME:Phoenix Beach Volleyball
X-ORIGINAL-URL:https://phoenixbeachvb.com
X-WR-CALDESC:Events for Phoenix Beach Volleyball
REFRESH-INTERVAL;VALUE=DURATION:PT1H
X-Robots-Tag:noindex
X-PUBLISHED-TTL:PT1H
BEGIN:VTIMEZONE
TZID:America/Phoenix
BEGIN:STANDARD
TZOFFSETFROM:-0700
TZOFFSETTO:-0700
TZNAME:MST
DTSTART:20250101T000000
END:STANDARD
END:VTIMEZONE
BEGIN:VEVENT
DTSTART;TZID=America/Phoenix:20260215T103000
DTEND;TZID=America/Phoenix:20260215T190000
DTSTAMP:20260423T122644
CREATED:20260209T163848Z
LAST-MODIFIED:20260209T163913Z
UID:10001819-1771151400-1771182000@phoenixbeachvb.com
SUMMARY:I Love My Valentine Sunday Swingers
DESCRIPTION:💕🏐 Valentine’s Day Sunday Swingers – Bring Your Valentine! 🏐💕 \nLove is in the air… and on the sand! Grab your valentine and join us for a Valentine’s Day–themed Sunday Swingers where teams sign up as coed pairs with their special someone—spouse\, partner\, crush\, or favorite volleyball valentine! \n💘 Format \n\nSign up with your valentine as a pair\nSwingers format: win and stay together\, lose and mix it up\nFun\, social\, and lightly competitive—perfect for all levels\nCheck in 1030AM\, play at 11 sharp!\n\n🌹 Expect \n\nValentine’s vibes & music\nFestive games and surprises\nSweet prizes for top finishers and best Valentine’s spirit\nEach player gets a rose from your best Valentine\, Phoenix Beach\n\n💰 Cost $35 per player payable @phoenixbeachvb on Venmo or 480-249-2242 on Zelle. \n❤️ Whether you’re playing with your longtime love or your beach volleyball bestie\, come celebrate Valentine’s weekend with your volleyball family! \nSpots are limited—grab your valentine and sign up! 💌
URL:https://phoenixbeachvb.com/event/i-love-my-valentine-sunday-swingers/
END:VEVENT
END:VCALENDAR