BEGIN:VCALENDAR
VERSION:2.0
PRODID:-//Phoenix Beach Volleyball - ECPv6.15.20//NONSGML v1.0//EN
CALSCALE:GREGORIAN
METHOD:PUBLISH
X-WR-CALNAME:Phoenix Beach Volleyball
X-ORIGINAL-URL:https://phoenixbeachvb.com
X-WR-CALDESC:Events for Phoenix Beach Volleyball
REFRESH-INTERVAL;VALUE=DURATION:PT1H
X-Robots-Tag:noindex
X-PUBLISHED-TTL:PT1H
BEGIN:VTIMEZONE
TZID:America/Phoenix
BEGIN:STANDARD
TZOFFSETFROM:-0700
TZOFFSETTO:-0700
TZNAME:MST
DTSTART:20250101T000000
END:STANDARD
END:VTIMEZONE
BEGIN:VEVENT
DTSTART;TZID=America/Phoenix:20260228T103000
DTEND;TZID=America/Phoenix:20260228T190000
DTSTAMP:20260423T105514
CREATED:20260207T152946Z
LAST-MODIFIED:20260207T152946Z
UID:10001817-1772274600-1772305200@phoenixbeachvb.com
SUMMARY:Megan’s Birthday Swingers Celebration
DESCRIPTION:🏐🎉 Megan’s Birthday Swingers Celebration! 🎉🏐 \nWe love life events and we have a good one for you all! Help us celebrate Megan’s birthday the best way we know how — sunshine\, friends\, and some fun\, competitive volleyball! Sign up as a coed pair\, and we’re taking a max of 16 pairs! \n📅 Date: February 28 \n⏰ Check-in: 10:30 AM \n🏐 Play starts: 11:00 AM \n🔥 Format \n\nEach pair plays 3 rounds of pool play (can add a 4th if we’re doing good on time)\nFollowed by a double-elimination bracket\nPairings are based on pool results\nWin\, stay together — lose\, get a new partner!\nException: Megan gets birthday privileges and chooses her own pairing 💁‍♀️🎂\n\nExpect great games\, fun shuffles\, and lots of birthday vibes. Come ready to compete\, laugh\, and celebrate Megan with her volleyball crew!
URL:https://phoenixbeachvb.com/event/megans-birthday-swingers-celebration/
LOCATION:RT O’Sullivan’s\, 7919 E Thomas Rd #101\, Scottsdale\, AZ\, 85251\, United States
END:VEVENT
END:VCALENDAR