BEGIN:VCALENDAR
VERSION:2.0
PRODID:-//Phoenix Beach Volleyball - ECPv6.15.20//NONSGML v1.0//EN
CALSCALE:GREGORIAN
METHOD:PUBLISH
X-WR-CALNAME:Phoenix Beach Volleyball
X-ORIGINAL-URL:https://phoenixbeachvb.com
X-WR-CALDESC:Events for Phoenix Beach Volleyball
REFRESH-INTERVAL;VALUE=DURATION:PT1H
X-Robots-Tag:noindex
X-PUBLISHED-TTL:PT1H
BEGIN:VTIMEZONE
TZID:America/Phoenix
BEGIN:STANDARD
TZOFFSETFROM:-0700
TZOFFSETTO:-0700
TZNAME:MST
DTSTART:20250101T000000
END:STANDARD
END:VTIMEZONE
BEGIN:VEVENT
DTSTART;TZID=America/Phoenix:20260308T100000
DTEND;TZID=America/Phoenix:20260308T170000
DTSTAMP:20260423T105519
CREATED:20260301T221814Z
LAST-MODIFIED:20260302T170424Z
UID:10001733-1772964000-1772989200@phoenixbeachvb.com
SUMMARY:Sunday BFF Swingers
DESCRIPTION:!!Sunday BFF Swingers!!\nWe’re not going to have these awesome temps for long\, so let’s get out and enjoy it! It might be the last of the good weather before summer hits! \nWe are taking up to 16 same sex pairs. Sign up with your partners name if you have one\, if not\, just put TBD!! Check in is at 10\, play begins at 1030AM. 3 full games to 21 with 3 different teammates for all players for pool play\, followed by a double elimination bracket. First Bracket pairing based on your pool play result! Win and stay together\, lose and you’ll get a new pair at random for the remainder of the tournament! \nSign ups must be equal men’s pairs and ladies pairs for this format! \nThe cost is only $30 per player\, with prizes for first and second place based on tournament sign ups. Tournament fees are payable via the following options: \nVenmo (phoenixbeachvb)\nZelle (480-249-2242) \nPlease ensure you are paid in full prior to tournament starting. Thank you. If you cancel within 24 hours you will be expected to pay your entry fee. Thanks for understanding
URL:https://phoenixbeachvb.com/event/sunday-swingers-draw-3-2-4/
LOCATION:RT O’Sullivan’s\, 7919 E Thomas Rd #101\, Scottsdale\, AZ\, 85251\, United States
END:VEVENT
END:VCALENDAR