BEGIN:VCALENDAR
VERSION:2.0
PRODID:-//Phoenix Beach Volleyball - ECPv6.15.20//NONSGML v1.0//EN
CALSCALE:GREGORIAN
METHOD:PUBLISH
X-ORIGINAL-URL:https://phoenixbeachvb.com
X-WR-CALDESC:Events for Phoenix Beach Volleyball
REFRESH-INTERVAL;VALUE=DURATION:PT1H
X-Robots-Tag:noindex
X-PUBLISHED-TTL:PT1H
BEGIN:VTIMEZONE
TZID:America/Phoenix
BEGIN:STANDARD
TZOFFSETFROM:-0700
TZOFFSETTO:-0700
TZNAME:MST
DTSTART:20250101T000000
END:STANDARD
END:VTIMEZONE
BEGIN:VEVENT
DTSTART;TZID=America/Phoenix:20260314T103000
DTEND;TZID=America/Phoenix:20260314T190000
DTSTAMP:20260423T110403
CREATED:20260224T220623Z
LAST-MODIFIED:20260314T170128Z
UID:10001822-1773484200-1773514800@phoenixbeachvb.com
SUMMARY:Ashleyyyyys Birthday Shuffle
DESCRIPTION:🎉🏐 ASHLEYYY’S BIRTHDAY SHUFFLE DRAW 🏐🎉 \nSaturday\, March 14th \nIt’s Ashleyyyy’s birthday and we’re celebrating the best way we know how… \nSUN. SAND. AND SHUFFLE CHAOS. \n🔥 FORMAT: \n• 3 Rounds of Pool Play \n• 3 Different Teams \n• Half the game is on the Men’s Net\, half of the game is on the Ladies Net \n• Then into bracket play! \nAnd because it’s HER day… \n👑 Ashleyyyy gets to pick her own team for bracket. \nYou’ve been warned. \n⏰ Check-In: 10:30 AM \n🏐 Play Begins: 11:00 AM \n💰 Cost: $30 per player payable via Venmo @phoenixbeachvb or Zelle 480.249.2242 \nExpect good vibes\, competitive battles\, birthday trash talk\, and maybe a few surprise rules if Ashleyyyy is feeling spicy. \nLet’s pack the courts and show up big for the birthday girl! 🎂🔥 As always\, the birthday girl is in control of their guest list! \nSign ups must be equal guys and girls.
URL:https://phoenixbeachvb.com/event/ashleyyyyys-birthday-shuffle/
LOCATION:RT O’Sullivan’s\, 7919 E Thomas Rd #101\, Scottsdale\, AZ\, 85251\, United States
END:VEVENT
END:VCALENDAR