BEGIN:VCALENDAR
VERSION:2.0
PRODID:-//Phoenix Beach Volleyball - ECPv6.15.20//NONSGML v1.0//EN
CALSCALE:GREGORIAN
METHOD:PUBLISH
X-ORIGINAL-URL:https://phoenixbeachvb.com
X-WR-CALDESC:Events for Phoenix Beach Volleyball
REFRESH-INTERVAL;VALUE=DURATION:PT1H
X-Robots-Tag:noindex
X-PUBLISHED-TTL:PT1H
BEGIN:VTIMEZONE
TZID:America/Phoenix
BEGIN:STANDARD
TZOFFSETFROM:-0700
TZOFFSETTO:-0700
TZNAME:MST
DTSTART:20250101T000000
END:STANDARD
END:VTIMEZONE
BEGIN:VEVENT
DTSTART;TZID=America/Phoenix:20260321T103000
DTEND;TZID=America/Phoenix:20260321T170000
DTSTAMP:20260423T105731
CREATED:20250303T145319Z
LAST-MODIFIED:20260131T150153Z
UID:10001813-1774089000-1774112400@phoenixbeachvb.com
SUMMARY:Keilas 2nd Annual Birthday Luau
DESCRIPTION:Aloha!! 🎉🌺\nSecond annual Hawaiian luau for Miss Keila B! You know it’s going to be a PARTY! 🎈🎶 Find your best Hawaiian outfit and let’s hit the beach! The birthday girl gets to hand-pick her ohana! \nCheck in for this birthday event is 1030AM\, play begins at 11! All players will get 3 pool play games to 21\, win by 2 and a cap at 23 if the game goes to extras. Bracket play is DOUBLE ELIMINATION\, with the cap lifted for bracket\, still playing to 21\, win by 2. \nPrizes for 1st and 2nd place with a full field!! \nCost for this event is $25 payable via Venmo @phoenixbeachvb or Zelle 480-249-2243 \nHope you all can make it!!
URL:https://phoenixbeachvb.com/event/kbs-birthday-luau/2026-03-21/
LOCATION:RT O’Sullivan’s\, 7919 E Thomas Rd #101\, Scottsdale\, AZ\, 85251\, United States
END:VEVENT
BEGIN:VEVENT
DTSTART;TZID=America/Phoenix:20260321T113000
DTEND;TZID=America/Phoenix:20260321T190000
DTSTAMP:20260423T105731
CREATED:20260202T145559Z
LAST-MODIFIED:20260320T134705Z
UID:10001815-1774092600-1774119600@phoenixbeachvb.com
SUMMARY:Celebrate Jolene’s Graduation Swingers Shuffle
DESCRIPTION:🎓🏐 Swingers Shuffle Draw – Jolene’s Graduation Bash! 🏐🎓 \n❤️🖤❤️🖤❤️🖤❤️🖤❤️🖤❤️🖤❤️🖤❤️🖤❤️ \nShe did it!!! 🙌 \nAfter putting in the time\, the work\, and the heart\, Jolene is officially a graduate! And if you know Jolene\, you know one thing for sure — she wants to celebrate this milestone with her volleyball family. ❤️🖤❤️🖤❤️🖤❤️🖤❤️🖤 \nBecause chasing your goals has no timeline and it’s never too late to go to school and level up in life\, we’re throwing down the best way we know how… with sand\, swings\, and smiles!\n❤️🖤❤️🖤❤️🖤❤️🖤❤️🖤 \nCome celebrate Jolene’s huge accomplishment and make it a day full of fun games\, laughs\, and good people. Make sure you wear that RED and BLACK         ❤️🖤❤️🖤❤️🖤❤️🖤 \nPhoenix Beach will be providing pizza and sandwiches for lunch\, Jolene is also bringing breakfast burritos! We also will be providing a few adult beverages and some non alcoholic options as well for you to enjoy throughout the day! \n📅 March 21st \n📍 Indian School Park\, Scottsdale \n⏰ 1115AM check in\, starting by 12:00 Noon \n💵 $40 per player (Venmo @phoenixbeachvb or Zelle 480-249-2242) \n✨ Shuffle teams every round! \n✨ Great vibes \n✨ Graduation celebration energy all day \n✨ Pizza Party! \nLet’s pack the courts and show Jolene some love — she’s earned it! 🎉🎓🏐
URL:https://phoenixbeachvb.com/event/celebrate-jolenes-graduation-swingers-shuffle/
LOCATION:ISP\, 4289 Hayden Rd\, Scottsdale\, Arizona\, 85251
END:VEVENT
END:VCALENDAR